BEGIN:VCALENDAR
VERSION:2.0
PRODID:-//Woods Humane Society - ECPv6.15.20//NONSGML v1.0//EN
CALSCALE:GREGORIAN
METHOD:PUBLISH
X-WR-CALNAME:Woods Humane Society
X-ORIGINAL-URL:https://woodshumanesociety.org
X-WR-CALDESC:Events for Woods Humane Society
REFRESH-INTERVAL;VALUE=DURATION:PT1H
X-Robots-Tag:noindex
X-PUBLISHED-TTL:PT1H
BEGIN:VTIMEZONE
TZID:America/Los_Angeles
BEGIN:DAYLIGHT
TZOFFSETFROM:-0800
TZOFFSETTO:-0700
TZNAME:PDT
DTSTART:20210314T100000
END:DAYLIGHT
BEGIN:STANDARD
TZOFFSETFROM:-0700
TZOFFSETTO:-0800
TZNAME:PST
DTSTART:20211107T090000
END:STANDARD
BEGIN:DAYLIGHT
TZOFFSETFROM:-0800
TZOFFSETTO:-0700
TZNAME:PDT
DTSTART:20220313T100000
END:DAYLIGHT
BEGIN:STANDARD
TZOFFSETFROM:-0700
TZOFFSETTO:-0800
TZNAME:PST
DTSTART:20221106T090000
END:STANDARD
BEGIN:DAYLIGHT
TZOFFSETFROM:-0800
TZOFFSETTO:-0700
TZNAME:PDT
DTSTART:20230312T100000
END:DAYLIGHT
BEGIN:STANDARD
TZOFFSETFROM:-0700
TZOFFSETTO:-0800
TZNAME:PST
DTSTART:20231105T090000
END:STANDARD
END:VTIMEZONE
BEGIN:VEVENT
DTSTART;TZID=America/Los_Angeles:20220527T140000
DTEND;TZID=America/Los_Angeles:20220527T160000
DTSTAMP:20260424T200805
CREATED:20220502T205734Z
LAST-MODIFIED:20220502T210020Z
UID:10000236-1653660000-1653667200@woodshumanesociety.org
SUMMARY:Free Microchip Clinic - North County
DESCRIPTION:May is National “Chip Your Pet” Month! Microchips allow lost pets to be quickly reunited with their owners. To help keep our community’s pets safe\, Woods is offering FREE Microchip Clinics at each of its locations throughout May. Clinics will be held on Wednesday afternoons in SLO and Friday afternoons in Atascadero. Visit SpaySLOCounty.com to sign up for a free appointment!
URL:https://woodshumanesociety.org/event/free-microchip-clinic-north-county/2022-05-27/
LOCATION:Woods Humane Society North County\, 2300 Ramona Rd.\, Atascadero\,\, CA\, 93422\, United States
CATEGORIES:Events
ATTACH;FMTTYPE=image/png:https://woodshumanesociety.org/wp-content/uploads/2022/05/Woods-300x250-Ad-MICROCHIPCLINIC-slocounty.png
END:VEVENT
END:VCALENDAR