BEGIN:VCALENDAR
VERSION:2.0
PRODID:-//Woods Humane Society - ECPv6.15.20//NONSGML v1.0//EN
CALSCALE:GREGORIAN
METHOD:PUBLISH
X-WR-CALNAME:Woods Humane Society
X-ORIGINAL-URL:https://woodshumanesociety.org
X-WR-CALDESC:Events for Woods Humane Society
REFRESH-INTERVAL;VALUE=DURATION:PT1H
X-Robots-Tag:noindex
X-PUBLISHED-TTL:PT1H
BEGIN:VTIMEZONE
TZID:America/Los_Angeles
BEGIN:DAYLIGHT
TZOFFSETFROM:-0800
TZOFFSETTO:-0700
TZNAME:PDT
DTSTART:20220313T100000
END:DAYLIGHT
BEGIN:STANDARD
TZOFFSETFROM:-0700
TZOFFSETTO:-0800
TZNAME:PST
DTSTART:20221106T090000
END:STANDARD
BEGIN:DAYLIGHT
TZOFFSETFROM:-0800
TZOFFSETTO:-0700
TZNAME:PDT
DTSTART:20230312T100000
END:DAYLIGHT
BEGIN:STANDARD
TZOFFSETFROM:-0700
TZOFFSETTO:-0800
TZNAME:PST
DTSTART:20231105T090000
END:STANDARD
BEGIN:DAYLIGHT
TZOFFSETFROM:-0800
TZOFFSETTO:-0700
TZNAME:PDT
DTSTART:20240310T100000
END:DAYLIGHT
BEGIN:STANDARD
TZOFFSETFROM:-0700
TZOFFSETTO:-0800
TZNAME:PST
DTSTART:20241103T090000
END:STANDARD
END:VTIMEZONE
BEGIN:VEVENT
DTSTART;TZID=America/Los_Angeles:20230412T123000
DTEND;TZID=America/Los_Angeles:20230412T133000
DTSTAMP:20260421T093037
CREATED:20230328T005228Z
LAST-MODIFIED:20230328T005801Z
UID:10000371-1681302600-1681306200@woodshumanesociety.org
SUMMARY:Pet Week Rescue Day
DESCRIPTION:Calling all pet lovers! Join SLO Parks & Recreation's Pet Week\, celebrating National Pet Day and Dog Therapy Appreciation Day\, starting April 11th! \nRescue Day \nWednesday\, April 12 \nBegins at 12:30 p.m. \nMitchell Park\, 1445 Santa Rosa St. \n  \nMeet adoptable animals from the SLO Animal Services Division and make dog toys with Woods Humane Society! \nPet Week is a free senior event and the public is welcome also. For more information\, please contact Recreation Coordinator\, Hadley Clegg: hclegg@slocity.org\, (805) 781-7303.
URL:https://woodshumanesociety.org/event/pet-week-rescue-day/
LOCATION:Mitchell Park\, 1445 Santa Rosa St.\, San Luis Obispo\, 93401
CATEGORIES:Events
ATTACH;FMTTYPE=image/png:https://woodshumanesociety.org/wp-content/uploads/2023/03/Pet-Week.png
ORGANIZER;CN="SLO Parks & Recreation":MAILTO:hclegg@slocity.org
END:VEVENT
END:VCALENDAR