BEGIN:VCALENDAR
VERSION:2.0
PRODID:-//Woods Humane Society - ECPv6.15.20//NONSGML v1.0//EN
CALSCALE:GREGORIAN
METHOD:PUBLISH
X-ORIGINAL-URL:https://woodshumanesociety.org
X-WR-CALDESC:Events for Woods Humane Society
REFRESH-INTERVAL;VALUE=DURATION:PT1H
X-Robots-Tag:noindex
X-PUBLISHED-TTL:PT1H
BEGIN:VTIMEZONE
TZID:America/Los_Angeles
BEGIN:DAYLIGHT
TZOFFSETFROM:-0800
TZOFFSETTO:-0700
TZNAME:PDT
DTSTART:20230312T100000
END:DAYLIGHT
BEGIN:STANDARD
TZOFFSETFROM:-0700
TZOFFSETTO:-0800
TZNAME:PST
DTSTART:20231105T090000
END:STANDARD
BEGIN:DAYLIGHT
TZOFFSETFROM:-0800
TZOFFSETTO:-0700
TZNAME:PDT
DTSTART:20240310T100000
END:DAYLIGHT
BEGIN:STANDARD
TZOFFSETFROM:-0700
TZOFFSETTO:-0800
TZNAME:PST
DTSTART:20241103T090000
END:STANDARD
BEGIN:DAYLIGHT
TZOFFSETFROM:-0800
TZOFFSETTO:-0700
TZNAME:PDT
DTSTART:20250309T100000
END:DAYLIGHT
BEGIN:STANDARD
TZOFFSETFROM:-0700
TZOFFSETTO:-0800
TZNAME:PST
DTSTART:20251102T090000
END:STANDARD
END:VTIMEZONE
BEGIN:VEVENT
DTSTART;TZID=America/Los_Angeles:20240505T120000
DTEND;TZID=America/Los_Angeles:20240505T140000
DTSTAMP:20260421T203606
CREATED:20240411T173222Z
LAST-MODIFIED:20240411T173251Z
UID:10000527-1714910400-1714917600@woodshumanesociety.org
SUMMARY:Kitten Baby Shower
DESCRIPTION:Woods is expecting! Visit our “baby registry” and come to our Kitten Baby Shower on Sunday\, May 5th\, at Woods SLO from 12-2 p.m. to help us celebrate and prepare for the new season of fur-babies! Shower festivities will include a bottle-feeding demonstration\, foster litter meet-and-greet\, foster program presentation and Q&A\, a kids’ craft corner\, cupcakes and punch refreshments\, and more! Learn more about our foster program at  woodshumanesociety.org/get-involved and email foster@woodshumanesociety.org to RSVP.
URL:https://woodshumanesociety.org/event/shower/
LOCATION:Woods Humane Society\, 875 Oklahoma Ave\, San Luis Obispo\, 93405\, United States
CATEGORIES:Events,Kids Program
ATTACH;FMTTYPE=image/png:https://woodshumanesociety.org/wp-content/uploads/2024/04/Woods-Kitten-Shower-2024-FACEBOOK-INSTAGRAM-v2.png
END:VEVENT
END:VCALENDAR