BEGIN:VCALENDAR
VERSION:2.0
PRODID:-//Woods Humane Society - ECPv6.15.20//NONSGML v1.0//EN
CALSCALE:GREGORIAN
METHOD:PUBLISH
X-WR-CALNAME:Woods Humane Society
X-ORIGINAL-URL:https://woodshumanesociety.org
X-WR-CALDESC:Events for Woods Humane Society
REFRESH-INTERVAL;VALUE=DURATION:PT1H
X-Robots-Tag:noindex
X-PUBLISHED-TTL:PT1H
BEGIN:VTIMEZONE
TZID:America/Los_Angeles
BEGIN:DAYLIGHT
TZOFFSETFROM:-0800
TZOFFSETTO:-0700
TZNAME:PDT
DTSTART:20240310T100000
END:DAYLIGHT
BEGIN:STANDARD
TZOFFSETFROM:-0700
TZOFFSETTO:-0800
TZNAME:PST
DTSTART:20241103T090000
END:STANDARD
BEGIN:DAYLIGHT
TZOFFSETFROM:-0800
TZOFFSETTO:-0700
TZNAME:PDT
DTSTART:20250309T100000
END:DAYLIGHT
BEGIN:STANDARD
TZOFFSETFROM:-0700
TZOFFSETTO:-0800
TZNAME:PST
DTSTART:20251102T090000
END:STANDARD
BEGIN:DAYLIGHT
TZOFFSETFROM:-0800
TZOFFSETTO:-0700
TZNAME:PDT
DTSTART:20260308T100000
END:DAYLIGHT
BEGIN:STANDARD
TZOFFSETFROM:-0700
TZOFFSETTO:-0800
TZNAME:PST
DTSTART:20261101T090000
END:STANDARD
END:VTIMEZONE
BEGIN:VEVENT
DTSTART;TZID=America/Los_Angeles:20250531T120000
DTEND;TZID=America/Los_Angeles:20250531T150000
DTSTAMP:20260421T152405
CREATED:20250226T063405Z
LAST-MODIFIED:20250226T063405Z
UID:10001056-1748692800-1748703600@woodshumanesociety.org
SUMMARY:Wine & Whiskers
DESCRIPTION:Sip\, support\, and celebrate with Riboli Family Wines as they host a special fundraising event for Woods! Enjoy an afternoon of fine wine\, live music\, and great company—all while making a difference for animals in need. \n🐾 Your $25 Ticket Includes: \n🍷 A Glass of Wine to savor as you mingle and enjoy the event \n🎟️ An Entry into their exclusive prize giveaway for a chance to win a special prize \n🎶 Live Music to set the perfect ambiance \n🍴 Delicious Food available for purchase from Maddalena Bistro \nFrom 12:00 PM – 3:00 PM\, Woods Humane Society will be onsite for a special kitten meet & greet\, sharing information about their lifesaving programs and ways to get involved. \nA portion of the proceeds from your ticket purchase will be donated to Woods Humane Society\, helping to provide care and find loving homes for animals in need. \n📅 Save the date\, grab your friends\, and join us for a paw-sitively amazing afternoon in support of a great cause! 🐾❤️ \n  \nhttps://www.exploretock.com/sanantoniowinerypasorobles/event/532524 \n  \n 
URL:https://woodshumanesociety.org/event/wine-whiskers/
LOCATION:Riboli Family Wines\, 2610 Buena Vista Dr\, Paso Robles\, 93446\, United States
CATEGORIES:Events
ATTACH;FMTTYPE=image/jpeg:https://woodshumanesociety.org/wp-content/uploads/2025/02/winewhiskers-fliers-scaled.jpg
ORGANIZER;CN="Riboli Family Wines":MAILTO:tspeth@riboliwines.com
END:VEVENT
END:VCALENDAR