BEGIN:VCALENDAR
VERSION:2.0
PRODID:-//Woods Humane Society - ECPv6.15.20//NONSGML v1.0//EN
CALSCALE:GREGORIAN
METHOD:PUBLISH
X-ORIGINAL-URL:https://woodshumanesociety.org
X-WR-CALDESC:Events for Woods Humane Society
REFRESH-INTERVAL;VALUE=DURATION:PT1H
X-Robots-Tag:noindex
X-PUBLISHED-TTL:PT1H
BEGIN:VTIMEZONE
TZID:America/Los_Angeles
BEGIN:DAYLIGHT
TZOFFSETFROM:-0800
TZOFFSETTO:-0700
TZNAME:PDT
DTSTART:20240310T100000
END:DAYLIGHT
BEGIN:STANDARD
TZOFFSETFROM:-0700
TZOFFSETTO:-0800
TZNAME:PST
DTSTART:20241103T090000
END:STANDARD
BEGIN:DAYLIGHT
TZOFFSETFROM:-0800
TZOFFSETTO:-0700
TZNAME:PDT
DTSTART:20250309T100000
END:DAYLIGHT
BEGIN:STANDARD
TZOFFSETFROM:-0700
TZOFFSETTO:-0800
TZNAME:PST
DTSTART:20251102T090000
END:STANDARD
BEGIN:DAYLIGHT
TZOFFSETFROM:-0800
TZOFFSETTO:-0700
TZNAME:PDT
DTSTART:20260308T100000
END:DAYLIGHT
BEGIN:STANDARD
TZOFFSETFROM:-0700
TZOFFSETTO:-0800
TZNAME:PST
DTSTART:20261101T090000
END:STANDARD
END:VTIMEZONE
BEGIN:VEVENT
DTSTART;TZID=America/Los_Angeles:20250730T110000
DTEND;TZID=America/Los_Angeles:20250730T140000
DTSTAMP:20260423T130328
CREATED:20250630T165053Z
LAST-MODIFIED:20250630T174000Z
UID:10001084-1753873200-1753884000@woodshumanesociety.org
SUMMARY:Woods Humane Society Blood Drive
DESCRIPTION:Did you know there is an urgent need for blood right here in our community?  \nOn July 30th\, we are partnering with our friends at Vitalant to host a blood drive at Woods Humane Society in San Luis Obispo open to staff\, volunteers and the public from 11 a.m. – 2 p.m. As you gear up for summer fun\, help hospitals get ready for summer blood needs. Your blood donation helps ensure patient care won’t be delayed.  All donors will receive pizza and a t shirt and you might as well meet some adoptable animals while you are here! \nPlease make your donation reservation today!
URL:https://woodshumanesociety.org/event/woods-humane-society-blood-drive/
LOCATION:Woods Humane Society\, 875 Oklahoma Ave\, San Luis Obispo\, 93405\, United States
CATEGORIES:Events
ATTACH;FMTTYPE=image/png:https://woodshumanesociety.org/wp-content/uploads/2025/06/Vitalant-Blood-Drive.png
END:VEVENT
BEGIN:VEVENT
DTSTART;TZID=America/Los_Angeles:20250730T120000
DTEND;TZID=America/Los_Angeles:20250730T190000
DTSTAMP:20260423T130328
CREATED:20250630T175141Z
LAST-MODIFIED:20250702T170354Z
UID:10001087-1753876800-1753902000@woodshumanesociety.org
SUMMARY:Wood's Electric Doggy Carnival
DESCRIPTION:Beat the heat and join the “rave” at Woods Humane Society’s Electric Doggy Carnival nights\, on Wednesdays July 23rd and 30th at Woods SLO\, as we hold extended adoption hours and $50 adult dog adoptions from 12-7 p.m.
URL:https://woodshumanesociety.org/event/woods-electric-doggy-carnival/2025-07-30/
LOCATION:Woods Humane Society\, 875 Oklahoma Ave\, San Luis Obispo\, 93405\, United States
CATEGORIES:Events
ATTACH;FMTTYPE=image/png:https://woodshumanesociety.org/wp-content/uploads/2025/06/Woods-July-Adoption-Promo-2025-FACEBOOK-INSTAGRAM-2.png
END:VEVENT
END:VCALENDAR