BEGIN:VCALENDAR
VERSION:2.0
PRODID:-//Woods Humane Society - ECPv6.15.20//NONSGML v1.0//EN
CALSCALE:GREGORIAN
METHOD:PUBLISH
X-ORIGINAL-URL:https://woodshumanesociety.org
X-WR-CALDESC:Events for Woods Humane Society
REFRESH-INTERVAL;VALUE=DURATION:PT1H
X-Robots-Tag:noindex
X-PUBLISHED-TTL:PT1H
BEGIN:VTIMEZONE
TZID:America/Los_Angeles
BEGIN:DAYLIGHT
TZOFFSETFROM:-0800
TZOFFSETTO:-0700
TZNAME:PDT
DTSTART:20240310T100000
END:DAYLIGHT
BEGIN:STANDARD
TZOFFSETFROM:-0700
TZOFFSETTO:-0800
TZNAME:PST
DTSTART:20241103T090000
END:STANDARD
BEGIN:DAYLIGHT
TZOFFSETFROM:-0800
TZOFFSETTO:-0700
TZNAME:PDT
DTSTART:20250309T100000
END:DAYLIGHT
BEGIN:STANDARD
TZOFFSETFROM:-0700
TZOFFSETTO:-0800
TZNAME:PST
DTSTART:20251102T090000
END:STANDARD
BEGIN:DAYLIGHT
TZOFFSETFROM:-0800
TZOFFSETTO:-0700
TZNAME:PDT
DTSTART:20260308T100000
END:DAYLIGHT
BEGIN:STANDARD
TZOFFSETFROM:-0700
TZOFFSETTO:-0800
TZNAME:PST
DTSTART:20261101T090000
END:STANDARD
END:VTIMEZONE
BEGIN:VEVENT
DTSTART;TZID=America/Los_Angeles:20250816T090000
DTEND;TZID=America/Los_Angeles:20250816T130000
DTSTAMP:20260425T040959
CREATED:20250717T154129Z
LAST-MODIFIED:20250717T154231Z
UID:10001093-1755334800-1755349200@woodshumanesociety.org
SUMMARY:FREE Pet Vaccine Clinic
DESCRIPTION:As part of the Petco Love nationwide #vaccinatedandloved initiative\, Woods is hosting FOUR more FREE\, appointment-based Pet Vaccine Clinics for publicly owned pets! \nUpcoming dates:📍 North County – August 2 & September 6📍 Woods SLO – August 16 & September 20⏰ All clinics run from 9 a.m. – 1 p.m. \nSpots fill fast—reserve your appointment today at SpaySLOCounty.com!
URL:https://woodshumanesociety.org/event/free-pet-vaccine-clinic-3/2025-08-16/
LOCATION:Woods Humane Society\, 875 Oklahoma Ave\, San Luis Obispo\, 93405\, United States
CATEGORIES:Events
ATTACH;FMTTYPE=image/png:https://woodshumanesociety.org/wp-content/uploads/2025/07/Woods-Vaccine-Clinic-AUG-and-SEPT-2025-FACEBOOK-INSTAGRAM-1.png
END:VEVENT
BEGIN:VEVENT
DTSTART;TZID=America/Los_Angeles:20250816T100000
DTEND;TZID=America/Los_Angeles:20250816T140000
DTSTAMP:20260425T040959
CREATED:20250731T203954Z
LAST-MODIFIED:20250808T153607Z
UID:10001096-1755338400-1755352800@woodshumanesociety.org
SUMMARY:Sip for a Cause at Denner Vineyards
DESCRIPTION:We’re thrilled to share that our friends at Denner Vineyards are hosting a special weekend in our honor—and you’re invited! \nFrom August 15–17th\, join us for a celebration of wine\, wagging tails\, and giving back\, with 20% of all bottle sales donated to support the animals at Woods Humane Society. \nThe main festivities happen on Saturday\, August 16th\, and we hope you’ll join us for a tail-wagging good time! Bring your friendly\, leashed pup and enjoy:📸 Pet portraits by @kateshyphotography🦴 Tasty dog treats from @pasopups🍴 Human treats from @bearcitysocial🎶 Tunes by @thegroovecollective2023🎁 A chance to win a paw-some gift basket from @maddiemaespetpantry \nReservations are recommended but not required.👉 Reserve your spot here \nCome sip with purpose\, support our mission\, and help pets in need—we can’t wait to see you there!
URL:https://woodshumanesociety.org/event/denner-vineyards-fundraiser/2025-08-16/
LOCATION:Denner Vineyards\, 5414 Vineyard Dr\, Paso Robles\, 93446\, United States
CATEGORIES:Events
ATTACH;FMTTYPE=image/png:https://woodshumanesociety.org/wp-content/uploads/2025/07/DENNER_WOODS-1080.png
END:VEVENT
END:VCALENDAR