BEGIN:VCALENDAR
VERSION:2.0
PRODID:-//Woods Humane Society - ECPv6.15.20//NONSGML v1.0//EN
CALSCALE:GREGORIAN
METHOD:PUBLISH
X-WR-CALNAME:Woods Humane Society
X-ORIGINAL-URL:https://woodshumanesociety.org
X-WR-CALDESC:Events for Woods Humane Society
REFRESH-INTERVAL;VALUE=DURATION:PT1H
X-Robots-Tag:noindex
X-PUBLISHED-TTL:PT1H
BEGIN:VTIMEZONE
TZID:America/Los_Angeles
BEGIN:DAYLIGHT
TZOFFSETFROM:-0800
TZOFFSETTO:-0700
TZNAME:PDT
DTSTART:20240310T100000
END:DAYLIGHT
BEGIN:STANDARD
TZOFFSETFROM:-0700
TZOFFSETTO:-0800
TZNAME:PST
DTSTART:20241103T090000
END:STANDARD
BEGIN:DAYLIGHT
TZOFFSETFROM:-0800
TZOFFSETTO:-0700
TZNAME:PDT
DTSTART:20250309T100000
END:DAYLIGHT
BEGIN:STANDARD
TZOFFSETFROM:-0700
TZOFFSETTO:-0800
TZNAME:PST
DTSTART:20251102T090000
END:STANDARD
BEGIN:DAYLIGHT
TZOFFSETFROM:-0800
TZOFFSETTO:-0700
TZNAME:PDT
DTSTART:20260308T100000
END:DAYLIGHT
BEGIN:STANDARD
TZOFFSETFROM:-0700
TZOFFSETTO:-0800
TZNAME:PST
DTSTART:20261101T090000
END:STANDARD
END:VTIMEZONE
BEGIN:VEVENT
DTSTART;TZID=America/Los_Angeles:20250927T120000
DTEND;TZID=America/Los_Angeles:20250927T150000
DTSTAMP:20260423T125018
CREATED:20250825T182142Z
LAST-MODIFIED:20250827T183553Z
UID:10001139-1758974400-1758985200@woodshumanesociety.org
SUMMARY:Happy Together Annual Fundraiser
DESCRIPTION:We’re thrilled to be part of the Happy Together 2025 Annual Fundraiser hosted by Heart Animal Sanctuary on Saturday\, September 27th! Our wonderful Woods volunteers will be onsite with a delicious bake sale\, with all proceeds supporting the animals at Woods. \nJoin us for a full day of free family fun! Enjoy bounce houses\, prize drawings\, a Paso Robles Fire Truck\, tasty eats from Yabba Dabba Dogs Food Truck\, 805 Beer & Wine for sale\, face painting\, balloon animals\, animal appearances\, and so much more. And don’t worry—there’s plenty of parking available!
URL:https://woodshumanesociety.org/event/happy-together-annual-fundraiser/
LOCATION:Heart Animal Sanctuary\, 580 Linne Road\, Paso Robles\, 93446\, United States
CATEGORIES:Events
ATTACH;FMTTYPE=image/png:https://woodshumanesociety.org/wp-content/uploads/2025/08/download.png
END:VEVENT
BEGIN:VEVENT
DTSTART;TZID=America/Los_Angeles:20250927T140000
DTEND;TZID=America/Los_Angeles:20250927T180000
DTSTAMP:20260423T125018
CREATED:20250814T174732Z
LAST-MODIFIED:20250814T175741Z
UID:10001107-1758981600-1758996000@woodshumanesociety.org
SUMMARY:The Macaroni & Cheese Festival
DESCRIPTION:The 12th Annual Mac and Cheese Fest is Coming Back to Avila Beach! \nWe’re so excited to share that the 12th Annual Mac and Cheese Fest is happening on September 27th from 2–6p.m. at Avila Beach! This is one of the Central Coast’s tastiest events\, and we’re thrilled to be the partnering non-profit this year. A portion of the proceeds will go directly to support our furry friends at Woods Humane Society! \nTickets are on sale now! Grab yours here \nEach year\, over 2\,500 attendees gather to taste amazing mac & cheese from top chefs\, restaurants\, and caterers. You’ll also get to vote for your favorite! Plus\, enjoy beer\, wine\, and spirits from local wineries and breweries\, and live music all afternoon. \nEvent Details – Know Before You Go: \n-21+ event only (no exceptions) \n-Please leave your furry friends at home (service animals only ) \n-Bring a low-back lawn chair or blanket for the grass \n-Event runs Rain or Shine \n-Plan a safe ride home \nCome enjoy the cheesiest event of the year while supporting Woods Humane Society and the animals we care for. Don’t wait—tickets will sell out!
URL:https://woodshumanesociety.org/event/the-macaroni-cheese-festival/
LOCATION:Avila Beach Golf Resort\, 6464 Ana Bay Rd\, Avila Beach\, 93424
CATEGORIES:Events
ATTACH;FMTTYPE=image/webp:https://woodshumanesociety.org/wp-content/uploads/2025/08/image_1746563252847_6uyrwlq3h.webp
ORGANIZER;CN="America General Media":MAILTO:Management@AmericanGeneralMedia.com
END:VEVENT
END:VCALENDAR