BEGIN:VCALENDAR
VERSION:2.0
PRODID:-//Woods Humane Society - ECPv6.15.20//NONSGML v1.0//EN
CALSCALE:GREGORIAN
METHOD:PUBLISH
X-WR-CALNAME:Woods Humane Society
X-ORIGINAL-URL:https://woodshumanesociety.org
X-WR-CALDESC:Events for Woods Humane Society
REFRESH-INTERVAL;VALUE=DURATION:PT1H
X-Robots-Tag:noindex
X-PUBLISHED-TTL:PT1H
BEGIN:VTIMEZONE
TZID:America/Los_Angeles
BEGIN:DAYLIGHT
TZOFFSETFROM:-0800
TZOFFSETTO:-0700
TZNAME:PDT
DTSTART:20240310T100000
END:DAYLIGHT
BEGIN:STANDARD
TZOFFSETFROM:-0700
TZOFFSETTO:-0800
TZNAME:PST
DTSTART:20241103T090000
END:STANDARD
BEGIN:DAYLIGHT
TZOFFSETFROM:-0800
TZOFFSETTO:-0700
TZNAME:PDT
DTSTART:20250309T100000
END:DAYLIGHT
BEGIN:STANDARD
TZOFFSETFROM:-0700
TZOFFSETTO:-0800
TZNAME:PST
DTSTART:20251102T090000
END:STANDARD
BEGIN:DAYLIGHT
TZOFFSETFROM:-0800
TZOFFSETTO:-0700
TZNAME:PDT
DTSTART:20260308T100000
END:DAYLIGHT
BEGIN:STANDARD
TZOFFSETFROM:-0700
TZOFFSETTO:-0800
TZNAME:PST
DTSTART:20261101T090000
END:STANDARD
END:VTIMEZONE
BEGIN:VEVENT
DTSTART;TZID=America/Los_Angeles:20251219T163000
DTEND;TZID=America/Los_Angeles:20251219T180000
DTSTAMP:20260423T034221
CREATED:20251218T182127Z
LAST-MODIFIED:20251218T182424Z
UID:10001227-1766161800-1766167200@woodshumanesociety.org
SUMMARY:ACI Jet Holiday Fundraiser
DESCRIPTION:Ready for Some Holiday Fun at ACI Jet? \nOur friends at ACI Jet are hosting a festive fundraiser supporting local nonprofits like Woods Humane Society\, and we can’t wait to join the holiday cheer! \nBring your most creative\, sky-high\, aviation-themed gingerbread masterpiece for the Aviation Gingerbread Build Off. A $15 donation gets you entered into the contest\, and bragging rights are on the line! \nWarm up with a hot chocolate bar\, snack on holiday treats\, explore aviation displays\, and enjoy fun prize giveaways all evening long. \nDecember 19 at 4:30 p.m.
URL:https://woodshumanesociety.org/event/aci-jet-holiday-fundraiser/
LOCATION:ACI Jets\, 4751 Aviadores Wy\, San Luis Obispo\, CA\, 93401
CATEGORIES:Events
ATTACH;FMTTYPE=image/png:https://woodshumanesociety.org/wp-content/uploads/2025/12/IMG_0928-scaled.png
END:VEVENT
END:VCALENDAR