BEGIN:VCALENDAR
VERSION:2.0
PRODID:-//Woods Humane Society - ECPv6.15.20//NONSGML v1.0//EN
CALSCALE:GREGORIAN
METHOD:PUBLISH
X-ORIGINAL-URL:https://woodshumanesociety.org
X-WR-CALDESC:Events for Woods Humane Society
REFRESH-INTERVAL;VALUE=DURATION:PT1H
X-Robots-Tag:noindex
X-PUBLISHED-TTL:PT1H
BEGIN:VTIMEZONE
TZID:America/Chicago
BEGIN:DAYLIGHT
TZOFFSETFROM:-0600
TZOFFSETTO:-0500
TZNAME:CDT
DTSTART:20250309T080000
END:DAYLIGHT
BEGIN:STANDARD
TZOFFSETFROM:-0500
TZOFFSETTO:-0600
TZNAME:CST
DTSTART:20251102T070000
END:STANDARD
BEGIN:DAYLIGHT
TZOFFSETFROM:-0600
TZOFFSETTO:-0500
TZNAME:CDT
DTSTART:20260308T080000
END:DAYLIGHT
BEGIN:STANDARD
TZOFFSETFROM:-0500
TZOFFSETTO:-0600
TZNAME:CST
DTSTART:20261101T070000
END:STANDARD
BEGIN:DAYLIGHT
TZOFFSETFROM:-0600
TZOFFSETTO:-0500
TZNAME:CDT
DTSTART:20270314T080000
END:DAYLIGHT
BEGIN:STANDARD
TZOFFSETFROM:-0500
TZOFFSETTO:-0600
TZNAME:CST
DTSTART:20271107T070000
END:STANDARD
END:VTIMEZONE
BEGIN:VEVENT
DTSTART;TZID=America/Chicago:20260504T150000
DTEND;TZID=America/Chicago:20260504T163000
DTSTAMP:20260421T093220
CREATED:20260417T224552Z
LAST-MODIFIED:20260417T224552Z
UID:10001345-1777906800-1777912200@woodshumanesociety.org
SUMMARY:Volunteer Orientation SLO Location
DESCRIPTION:Woods volunteers must be 18 years of age or older. If you are interested in opportunities for those under 18 years old\, please visit our Youth Volunteers section of the Get Involved page. \n\n\n                \n                        PhoneThis field is for validation purposes and should be left unchanged.Are you 18 years of age or older?*YesNoContact InformationName*\n                            \n                            \n                                                    \n                                                    First\n                                                \n                            \n                            \n                                                    \n                                                    Last\n                                                \n                            \n                        Phone*Email*\n                            \n                        I acknowledge that my volunteer time cannot be signed off on for court-ordered community service hours.*\n								\n								I agree\n							I am interested in the following shifts:\n						\n						Select All\n					\n								\n								Animal Care and Cleaning (available 7 days/week\, 9 am - 12 pm)\n							\n								\n								Cattery Adoptions (available 7 days/week\, 12 pm - 2 pm\, 2 pm - 4 pm)\n							\n								\n								Dog Enrichment ( available7 days/week\, 1 pm - 3 pm)\n							\n								\n								Dog Walking (available 7 days/week\, 3 pm - 5 pm)\n							Shift availability and times are frequently updated! If these times do not work for you\, check back soon for more opportunities!
URL:https://woodshumanesociety.org/event/volunteer-orientation-slo-location-45/
LOCATION:Woods Humane Society SLO\, 875 Oklahoma Ave\, San Luis Obispo\, CA\, 93405\, United States
CATEGORIES:Volunteer Orientation
ATTACH;FMTTYPE=image/jpeg:https://woodshumanesociety.org/wp-content/uploads/2020/11/donate-content-1.jpg
END:VEVENT
END:VCALENDAR