BEGIN:VCALENDAR
VERSION:2.0
PRODID:-//Woods Humane Society - ECPv6.15.20//NONSGML v1.0//EN
CALSCALE:GREGORIAN
METHOD:PUBLISH
X-WR-CALNAME:Woods Humane Society
X-ORIGINAL-URL:https://woodshumanesociety.org
X-WR-CALDESC:Events for Woods Humane Society
REFRESH-INTERVAL;VALUE=DURATION:PT1H
X-Robots-Tag:noindex
X-PUBLISHED-TTL:PT1H
BEGIN:VTIMEZONE
TZID:America/Los_Angeles
BEGIN:DAYLIGHT
TZOFFSETFROM:-0800
TZOFFSETTO:-0700
TZNAME:PDT
DTSTART:20220313T100000
END:DAYLIGHT
BEGIN:STANDARD
TZOFFSETFROM:-0700
TZOFFSETTO:-0800
TZNAME:PST
DTSTART:20221106T090000
END:STANDARD
BEGIN:DAYLIGHT
TZOFFSETFROM:-0800
TZOFFSETTO:-0700
TZNAME:PDT
DTSTART:20230312T100000
END:DAYLIGHT
BEGIN:STANDARD
TZOFFSETFROM:-0700
TZOFFSETTO:-0800
TZNAME:PST
DTSTART:20231105T090000
END:STANDARD
BEGIN:DAYLIGHT
TZOFFSETFROM:-0800
TZOFFSETTO:-0700
TZNAME:PDT
DTSTART:20240310T100000
END:DAYLIGHT
BEGIN:STANDARD
TZOFFSETFROM:-0700
TZOFFSETTO:-0800
TZNAME:PST
DTSTART:20241103T090000
END:STANDARD
END:VTIMEZONE
BEGIN:VTIMEZONE
TZID:America/Chicago
BEGIN:DAYLIGHT
TZOFFSETFROM:-0600
TZOFFSETTO:-0500
TZNAME:CDT
DTSTART:20220313T080000
END:DAYLIGHT
BEGIN:STANDARD
TZOFFSETFROM:-0500
TZOFFSETTO:-0600
TZNAME:CST
DTSTART:20221106T070000
END:STANDARD
BEGIN:DAYLIGHT
TZOFFSETFROM:-0600
TZOFFSETTO:-0500
TZNAME:CDT
DTSTART:20230312T080000
END:DAYLIGHT
BEGIN:STANDARD
TZOFFSETFROM:-0500
TZOFFSETTO:-0600
TZNAME:CST
DTSTART:20231105T070000
END:STANDARD
BEGIN:DAYLIGHT
TZOFFSETFROM:-0600
TZOFFSETTO:-0500
TZNAME:CDT
DTSTART:20240310T080000
END:DAYLIGHT
BEGIN:STANDARD
TZOFFSETFROM:-0500
TZOFFSETTO:-0600
TZNAME:CST
DTSTART:20241103T070000
END:STANDARD
END:VTIMEZONE
BEGIN:VEVENT
DTSTART;TZID=America/Los_Angeles:20230805T120000
DTEND;TZID=America/Los_Angeles:20230805T170000
DTSTAMP:20260419T191447
CREATED:20230720T154437Z
LAST-MODIFIED:20230726T224948Z
UID:10000478-1691236800-1691254800@woodshumanesociety.org
SUMMARY:Family Fun Day at SLO Public Market
DESCRIPTION:Woods will join in the fun at Family Fun Day in the SLO Public Market Courtyard on August 5th from 12p to 5p. There will be live music from local artists\, Silk Ocean and Speaking of Roses\, a bounce slide from SLO Bounce Co\, free face painting & henna tattoos from Enchanted Hasna\, AND YMCA SLO will set up a booth with fun activities for the kids! Family Fun Day is sure to be filled with great music\, good food\, and fun that everyone can enjoy!
URL:https://woodshumanesociety.org/event/family-fun-day/
LOCATION:SLO Public Market\, 3845 S HIGUERA ST\, SAN LUIS OBISPO\, 93401
CATEGORIES:Events,Kids Program
ATTACH;FMTTYPE=image/jpeg:https://woodshumanesociety.org/wp-content/uploads/2023/07/FAMILY-FUN-DAY-POSTER.jpg
ORGANIZER;CN="SLO Public Market":MAILTO:HELLO@SLOPUBLICMARKET.COM
END:VEVENT
BEGIN:VEVENT
DTSTART;TZID=America/Los_Angeles:20230811T100000
DTEND;TZID=America/Los_Angeles:20230811T120000
DTSTAMP:20260419T191447
CREATED:20230713T232443Z
LAST-MODIFIED:20230713T232443Z
UID:10000473-1691748000-1691755200@woodshumanesociety.org
SUMMARY:Coastal Cleanup with Woods & MBNEP
DESCRIPTION:The Morro Bay National Estuary Program's Mutts for the Bay is teaming up with Woods Humane Society for a volunteer coastal cleanup on Friday\, August 11 from 10 a.m. to 12 p.m. Meet at Cloisters Park in Morro Bay to help us pick up litter in the surrounding dog-friendly park\, trails\, and beach while learning about humane & eco-friendly pet ownership!
URL:https://woodshumanesociety.org/event/coastal-cleanup-with-woods-mbnep/
LOCATION:Cloisters Community Park\, Coral Avenue\, Morro Bay\, CA\, 93442\, United States
CATEGORIES:Events,Kids Program
ATTACH;FMTTYPE=image/png:https://woodshumanesociety.org/wp-content/uploads/2023/07/Mutts-X-Woods-Clean-Up-1.png
ORGANIZER;CN="Morro Bay National Estuary Program":MAILTO:staff@mbnep.org
END:VEVENT
BEGIN:VEVENT
DTSTART;TZID=America/Los_Angeles:20230811T173000
DTEND;TZID=America/Los_Angeles:20230811T193000
DTSTAMP:20260419T191447
CREATED:20230720T155412Z
LAST-MODIFIED:20230720T155412Z
UID:10000479-1691775000-1691782200@woodshumanesociety.org
SUMMARY:Paint Your Pet at Top Dog Coffee
DESCRIPTION:Learn to paint your pet with Art Social 805 while helping the homeless pets at Woods Humane Society.  Join us at Top Dog Coffee Bar on August 11 from 5:30 to 7:30. Tickets are $55 per painter which includes all materials needed to create your one of a kind masterpiece\, plus a glass of liquid inspiration. \nA portion of the proceeds is donated to Wood Humane Society.
URL:https://woodshumanesociety.org/event/paint-your-pet-at-top-dog-coffee/
LOCATION:Top Dog Coffee\, 857 Main Street\, Morro Bay\, 93442
CATEGORIES:Events
ATTACH;FMTTYPE=image/jpeg:https://woodshumanesociety.org/wp-content/uploads/2023/07/Top-Dog-Paint-Your-Pet.jpg
END:VEVENT
BEGIN:VEVENT
DTSTART;TZID=America/Chicago:20230812T100000
DTEND;TZID=America/Chicago:20230812T110000
DTSTAMP:20260419T191447
CREATED:20230728T164440Z
LAST-MODIFIED:20230728T164440Z
UID:10000483-1691834400-1691838000@woodshumanesociety.org
SUMMARY:Volunteer Orientation North County Location
DESCRIPTION:This is a volunteer orientation for our North County facility. Volunteers interested in working with dogs or in SLO must sign up for an orientation at our SLO location. Please check the calendar for our next event. \nWoods volunteers must be 18 years of age or older. If you are interested in opportunities for those under 18 years old\, please visit our Youth Volunteers section of the Get Involved page.
URL:https://woodshumanesociety.org/event/volunteer-orientation-north-county-location-31/
LOCATION:Woods Humane Society North County\, 2300 Ramona Rd.\, Atascadero\,\, CA\, 93422\, United States
CATEGORIES:Volunteer Orientation
ATTACH;FMTTYPE=image/jpeg:https://woodshumanesociety.org/wp-content/uploads/2020/12/Get-Involved-content-1.jpg
END:VEVENT
BEGIN:VEVENT
DTSTART;TZID=America/Chicago:20230813T110000
DTEND;TZID=America/Chicago:20230813T123000
DTSTAMP:20260419T191447
CREATED:20230728T233243Z
LAST-MODIFIED:20230728T233243Z
UID:10000484-1691924400-1691929800@woodshumanesociety.org
SUMMARY:Volunteer Orientation SLO Location
DESCRIPTION:Woods volunteers must be 18 years of age or older. If you are interested in opportunities for those under 18 years old\, please visit our Youth Volunteers section of the Get Involved page. \n\n\n                \n                        URLThis field is for validation purposes and should be left unchanged.Are you 18 years of age or older?*YesNoFOR SAN LUIS OBISPO — Please choose from the following:*\n			\n				\n				I would like to volunteer as an individual.\n			\n			\n				\n				I would like to volunteer for community service hours.\n			Contact InformationName*\n                            \n                            \n                                                    \n                                                    First\n                                                \n                            \n                            \n                                                    \n                                                    Last\n                                                \n                            \n                        Address*    \n                    \n                         \n                                        \n                                        Street Address\n                                    \n                                    \n                                    City\n                                 \n                                        \n                                        State / Province / Region\n                                      \n                                    \n                                    ZIP / Postal Code\n                                \n                    \n                Phone*Okay to text this number?\n			\n				\n				Yes\n			\n			\n				\n				No\n			Email*\n                            \n                        What is your preferred method of contact?*Select oneCell phone - callCell phone - textEmailI am interested in the following shifts:\n						\n						Select All\n					\n								\n								Animal Care and Cleaning (7 days/week\, 9 am - 12 pm)\n							\n								\n								Cattery Adoptions (7 days/week\, 12 pm - 2 pm\, 2 pm - 4 pm)\n							\n								\n								Dog Enrichment (7 days/week\, 1 pm - 3 pm)\n							\n								\n								Dog Walking (Sunday - Thursday\, 3 pm - 5 pm)\n							\n								\n								Surgery Assistance (Monday - Friday\, 9 am - 12 pm)\n							Shift availability and times are frequently updated! If these times do not work for you\, check back soon for more opportunities!
URL:https://woodshumanesociety.org/event/volunteer-orientation-slo-location-17/
LOCATION:Woods Humane Society SLO\, 875 Oklahoma Ave\, San Luis Obispo\, CA\, 93405\, United States
CATEGORIES:Volunteer Orientation
ATTACH;FMTTYPE=image/jpeg:https://woodshumanesociety.org/wp-content/uploads/2020/11/donate-content-1.jpg
END:VEVENT
BEGIN:VEVENT
DTSTART;TZID=America/Los_Angeles:20230824T000000
DTEND;TZID=America/Los_Angeles:20230918T235959
DTSTAMP:20260419T191447
CREATED:20230828T214525Z
LAST-MODIFIED:20230828T215609Z
UID:10000488-1692835200-1695081599@woodshumanesociety.org
SUMMARY:New Times and Sun Pet Issue Photo Contest
DESCRIPTION:Submit your best pet photos in the New Times SLO's and The Sun's Pet Issue Photo Contest. Entries are $5 each and all proceeds will be split between Woods Humane Society and Santa Barbara Humane Society. Winning photos will be featured in their special Pet Issue on October 19th!
URL:https://woodshumanesociety.org/event/new-times-and-sun-pet-issue-photo-contest/
LOCATION:CA
ATTACH;FMTTYPE=image/jpeg:https://woodshumanesociety.org/wp-content/uploads/2023/08/New-Times-Pet-Photo-Contest2.jpg
ORGANIZER;CN="New Times SLO":MAILTO:news@newtimesslo.com
END:VEVENT
BEGIN:VEVENT
DTSTART;TZID=America/Los_Angeles:20230826T080000
DTEND;TZID=America/Los_Angeles:20230826T170000
DTSTAMP:20260419T191447
CREATED:20230527T190712Z
LAST-MODIFIED:20230626T175502Z
UID:10000464-1693036800-1693069200@woodshumanesociety.org
SUMMARY:Woods Humane Society Golf Tournament
DESCRIPTION:Golf for the animals! The 3rd Annual Woods Humane Society Golf Tournament will be held at Hunter Ranch on August 26\, 2023! Register now to compete and support our Drive to Save Lives!
URL:https://woodshumanesociety.org/event/woods-humane-society-golf-tournament-2023/
LOCATION:Hunter Ranch Golf Course\, 4041 Highway 46 East\, Paso Robles\, Ca\, 93446\, United States
CATEGORIES:Events
ATTACH;FMTTYPE=image/png:https://woodshumanesociety.org/wp-content/uploads/2023/05/Woods-Golf-Tournament-2023-FACEBOOK-INSTAGRAM.png
ORGANIZER;CN="Hunter Ranch Golf Course":MAILTO:info@hunterranchgolf.com
END:VEVENT
BEGIN:VEVENT
DTSTART;TZID=America/Los_Angeles:20230826T140000
DTEND;TZID=America/Los_Angeles:20230826T170000
DTSTAMP:20260419T191447
CREATED:20230720T155959Z
LAST-MODIFIED:20230814T161847Z
UID:10000480-1693058400-1693069200@woodshumanesociety.org
SUMMARY:Yappy Hour at Vespera Resort
DESCRIPTION:Vespera Reorts on Pismo Beach will be hosting a National Dog Day Yappy Hour event on Saturday\, August 26th. Join us from 2-5 PM on the Starlight Lawn to treat your furry friend to their own pet portrait\, Smart ID tag\, and more for purchase.  10% of all food and beverage sales this day with be donated to Woods Humane Society!
URL:https://woodshumanesociety.org/event/yappy-hour-at-vespera-resort/
LOCATION:Vespera Resort\, 147 STIMSON AVENUE\, PISMO BEACH\, 93449
ATTACH;FMTTYPE=image/jpeg:https://woodshumanesociety.org/wp-content/uploads/2023/07/20211022_Vespera-Resort_Int-Ext_CP-60-1536x1024-1.jpg
END:VEVENT
BEGIN:VEVENT
DTSTART;TZID=America/Los_Angeles:20230827T130000
DTEND;TZID=America/Los_Angeles:20230827T150000
DTSTAMP:20260419T191447
CREATED:20230720T160349Z
LAST-MODIFIED:20230730T235706Z
UID:10000481-1693141200-1693148400@woodshumanesociety.org
SUMMARY:Youth Art Event at Woods
DESCRIPTION:The artists of ArtSocial805 will guide youth through a fun art project at Woods on August 27 from 1-3 p.m. Tickets cost $45 with a portion of proceeds going to Woods Humane Society.
URL:https://woodshumanesociety.org/event/youth-paint-event-at-woods/
LOCATION:Woods Humane Society\, 875 Oklahoma Ave\, San Luis Obispo\, 93405\, United States
CATEGORIES:Kids Program
ATTACH;FMTTYPE=image/jpeg:https://woodshumanesociety.org/wp-content/uploads/2023/07/Youth-Paint-Event-Woods-August-2023.jpeg
END:VEVENT
END:VCALENDAR