BEGIN:VCALENDAR
VERSION:2.0
PRODID:-//Woods Humane Society - ECPv6.15.20//NONSGML v1.0//EN
CALSCALE:GREGORIAN
METHOD:PUBLISH
X-WR-CALNAME:Woods Humane Society
X-ORIGINAL-URL:https://woodshumanesociety.org
X-WR-CALDESC:Events for Woods Humane Society
REFRESH-INTERVAL;VALUE=DURATION:PT1H
X-Robots-Tag:noindex
X-PUBLISHED-TTL:PT1H
BEGIN:VTIMEZONE
TZID:America/Chicago
BEGIN:DAYLIGHT
TZOFFSETFROM:-0600
TZOFFSETTO:-0500
TZNAME:CDT
DTSTART:20220313T080000
END:DAYLIGHT
BEGIN:STANDARD
TZOFFSETFROM:-0500
TZOFFSETTO:-0600
TZNAME:CST
DTSTART:20221106T070000
END:STANDARD
BEGIN:DAYLIGHT
TZOFFSETFROM:-0600
TZOFFSETTO:-0500
TZNAME:CDT
DTSTART:20230312T080000
END:DAYLIGHT
BEGIN:STANDARD
TZOFFSETFROM:-0500
TZOFFSETTO:-0600
TZNAME:CST
DTSTART:20231105T070000
END:STANDARD
BEGIN:DAYLIGHT
TZOFFSETFROM:-0600
TZOFFSETTO:-0500
TZNAME:CDT
DTSTART:20240310T080000
END:DAYLIGHT
BEGIN:STANDARD
TZOFFSETFROM:-0500
TZOFFSETTO:-0600
TZNAME:CST
DTSTART:20241103T070000
END:STANDARD
END:VTIMEZONE
BEGIN:VTIMEZONE
TZID:America/Los_Angeles
BEGIN:DAYLIGHT
TZOFFSETFROM:-0800
TZOFFSETTO:-0700
TZNAME:PDT
DTSTART:20220313T100000
END:DAYLIGHT
BEGIN:STANDARD
TZOFFSETFROM:-0700
TZOFFSETTO:-0800
TZNAME:PST
DTSTART:20221106T090000
END:STANDARD
BEGIN:DAYLIGHT
TZOFFSETFROM:-0800
TZOFFSETTO:-0700
TZNAME:PDT
DTSTART:20230312T100000
END:DAYLIGHT
BEGIN:STANDARD
TZOFFSETFROM:-0700
TZOFFSETTO:-0800
TZNAME:PST
DTSTART:20231105T090000
END:STANDARD
BEGIN:DAYLIGHT
TZOFFSETFROM:-0800
TZOFFSETTO:-0700
TZNAME:PDT
DTSTART:20240310T100000
END:DAYLIGHT
BEGIN:STANDARD
TZOFFSETFROM:-0700
TZOFFSETTO:-0800
TZNAME:PST
DTSTART:20241103T090000
END:STANDARD
END:VTIMEZONE
BEGIN:VEVENT
DTSTART;TZID=America/Chicago:20231001T110000
DTEND;TZID=America/Chicago:20231001T123000
DTSTAMP:20260419T105109
CREATED:20230905T192132Z
LAST-MODIFIED:20230905T192132Z
UID:10000491-1696158000-1696163400@woodshumanesociety.org
SUMMARY:Volunteer Orientation SLO Location
DESCRIPTION:Woods volunteers must be 18 years of age or older. If you are interested in opportunities for those under 18 years old\, please visit our Youth Volunteers section of the Get Involved page. \nThis volunteer orientation class is now full. To be added to a cancellation list\, please email volunteer@woodshumanesociety.org!
URL:https://woodshumanesociety.org/event/volunteer-orientation-slo-location-19/
LOCATION:Woods Humane Society SLO\, 875 Oklahoma Ave\, San Luis Obispo\, CA\, 93405\, United States
CATEGORIES:Volunteer Orientation
ATTACH;FMTTYPE=image/jpeg:https://woodshumanesociety.org/wp-content/uploads/2020/11/donate-content-1.jpg
END:VEVENT
BEGIN:VEVENT
DTSTART;TZID=America/Los_Angeles:20231005T080000
DTEND;TZID=America/Los_Angeles:20231009T170000
DTSTAMP:20260419T105109
CREATED:20230828T211842Z
LAST-MODIFIED:20230925T231910Z
UID:10000487-1696492800-1696870800@woodshumanesociety.org
SUMMARY:Central Coast RV Show presented by Sky River RV
DESCRIPTION:If you’ve ever dreamt of exploring the country in an RV\, with your furry best friend in tow\, now is the time! The Central Coast RV Show presented by Sky River RV is partnering with Woods Humane Society during their event at the Madonna Inn from October 5th - October 9th. For every new RV sold\, Sky River RV will donate $100 to the Woods Humane Society! \nParking and admission to the Central Coast RV Show are free and the show will feature more than 200 RVs\, Motorhomes\, Class Cs\, B Vans\, Travel Trailers\, Fifth Wheels\, and Toy Haulers. Learn more here.  \n 
URL:https://woodshumanesociety.org/event/central-coast-rv-show-presented-by-sky-river-rv/
LOCATION:Madonna Meadows\, 100 Madonna Road\, San Luis Obispo\, CA\, 93405\, United States
CATEGORIES:Events
ATTACH;FMTTYPE=image/jpeg:https://woodshumanesociety.org/wp-content/uploads/2023/08/Sky-River.jpg
END:VEVENT
BEGIN:VEVENT
DTSTART;TZID=America/Los_Angeles:20231007T100000
DTEND;TZID=America/Los_Angeles:20231007T150000
DTSTAMP:20260419T105109
CREATED:20230927T230412Z
LAST-MODIFIED:20230927T230412Z
UID:10000495-1696672800-1696690800@woodshumanesociety.org
SUMMARY:Atascadero Colony Days
DESCRIPTION:Visit Woods at Atascadero Colony Days\, taking place on Saturday Oct. 7 from ​10 am to 3 pm.\nThe parade will start at 10 a.m. and run down El Camino Real from Davis Auto Body to West Mall and Palma Ave. by Sunken Gardens. The Festival will start immediately after the parade and continue until 3 pm. There will be a variety of vendors\, entertainment and food in and around the Sunken Gardens. Wiener dog and small dog races will start at 12:00 pm. Applications for the parade are open and it is free to participate! Deadline is Friday\, September 29\, 2023. It will be a day for the community to gather safely ​with friends and family and celebrate!
URL:https://woodshumanesociety.org/event/atascadero-colony-days/
LOCATION:Sunken Gardens\, 6505 El Camino Real\, Atascadero\, 93422\, United States
ATTACH;FMTTYPE=image/png:https://woodshumanesociety.org/wp-content/uploads/2023/09/Colony-Days.png
END:VEVENT
BEGIN:VEVENT
DTSTART;TZID=America/Los_Angeles:20231010T170000
DTEND;TZID=America/Los_Angeles:20231010T183000
DTSTAMP:20260419T105109
CREATED:20230927T225042Z
LAST-MODIFIED:20230927T225042Z
UID:10000494-1696957200-1696962600@woodshumanesociety.org
SUMMARY:Dueling Spoons
DESCRIPTION:Woods is the chosen charity partner for Central Coast Party Helpers' "Dueling Spoons" mac and cheese cook-off competition! In this cook-off\, two passionate chefs showcase their creativity by infusing their own signature elements into their beloved mac and cheese recipes\, creating a fusion that is both unexpected and comforting. Miss Anna will also offer her "Award Winning Apple Pie"  to round out the evening! \nVIP tickets are $80 and General Admission are $50. \n  \n  \n  \n 
URL:https://woodshumanesociety.org/event/dueling-spoons/
LOCATION:Idler's Home\, 2361 Theatre Dr.\, Paso Robles\, 93446\, United States
CATEGORIES:Events
ATTACH;FMTTYPE=image/png:https://woodshumanesociety.org/wp-content/uploads/2023/09/October-Cooking-Show-Mac-Cheese-Flyer.png
ORGANIZER;CN="Central Coast Party Helpers":MAILTO:vip@ccph.wedding
END:VEVENT
BEGIN:VEVENT
DTSTART;TZID=America/Los_Angeles:20231021T090000
DTEND;TZID=America/Los_Angeles:20231021T120000
DTSTAMP:20260419T105109
CREATED:20230927T231810Z
LAST-MODIFIED:20230927T231810Z
UID:10000496-1697878800-1697889600@woodshumanesociety.org
SUMMARY:CCPN Senior Health Expo
DESCRIPTION:Visit Woods' booth at the Coastal Communities Physician Network Senior Health Expo on Saturday\, October 21\, 2023 from 9 a.m. to 12 p.m. \nThe event will include: \n\nFree Flu Shots and Health Screenings\nSenior Resources\, Vendors\nRepresentatives from Affiliated Medicare Advantage Plans\nRaffle Prizes\nFree Food and Refreshments\nAnd More…
URL:https://woodshumanesociety.org/event/senior-health-expo/
LOCATION:CCPN\, 325 Posada Lane\, Templeton\, 93465\, United States
ATTACH;FMTTYPE=image/jpeg:https://woodshumanesociety.org/wp-content/uploads/2023/09/Senior-Expo-Flyer-CCPN-2023_Page_1-scaled.jpg
END:VEVENT
BEGIN:VEVENT
DTSTART;TZID=America/Los_Angeles:20231028T120000
DTEND;TZID=America/Los_Angeles:20231028T150000
DTSTAMP:20260419T105109
CREATED:20230626T175935Z
LAST-MODIFIED:20230922T001528Z
UID:10000471-1698494400-1698505200@woodshumanesociety.org
SUMMARY:Wiggle Waggle Fall Festival 2023
DESCRIPTION:Save the date for the 2023 Wiggle Waggle Fall Festival. \nBring the whole family\, including leashed and dog-friendly dogs\, to Woods SLO on October 28th\, from 12-3 p.m. to enjoy this FREE fall-themed community pet celebration and a whole lot of HOWL-o-ween fun! \nLearn more here!
URL:https://woodshumanesociety.org/event/wiggle-waggle-fall-festival-2023/
LOCATION:Woods Humane Society\, 875 Oklahoma Ave\, San Luis Obispo\, 93405\, United States
CATEGORIES:Events
ATTACH;FMTTYPE=image/png:https://woodshumanesociety.org/wp-content/uploads/2023/06/Woods-Wiggle-Waggle-2023-FACEBOOK-and-INSTAGRAM-save-the-date.png
END:VEVENT
END:VCALENDAR