BEGIN:VCALENDAR
VERSION:2.0
PRODID:-//Woods Humane Society - ECPv6.15.20//NONSGML v1.0//EN
CALSCALE:GREGORIAN
METHOD:PUBLISH
X-WR-CALNAME:Woods Humane Society
X-ORIGINAL-URL:https://woodshumanesociety.org
X-WR-CALDESC:Events for Woods Humane Society
REFRESH-INTERVAL;VALUE=DURATION:PT1H
X-Robots-Tag:noindex
X-PUBLISHED-TTL:PT1H
BEGIN:VTIMEZONE
TZID:America/Chicago
BEGIN:DAYLIGHT
TZOFFSETFROM:-0600
TZOFFSETTO:-0500
TZNAME:CDT
DTSTART:20220313T080000
END:DAYLIGHT
BEGIN:STANDARD
TZOFFSETFROM:-0500
TZOFFSETTO:-0600
TZNAME:CST
DTSTART:20221106T070000
END:STANDARD
BEGIN:DAYLIGHT
TZOFFSETFROM:-0600
TZOFFSETTO:-0500
TZNAME:CDT
DTSTART:20230312T080000
END:DAYLIGHT
BEGIN:STANDARD
TZOFFSETFROM:-0500
TZOFFSETTO:-0600
TZNAME:CST
DTSTART:20231105T070000
END:STANDARD
BEGIN:DAYLIGHT
TZOFFSETFROM:-0600
TZOFFSETTO:-0500
TZNAME:CDT
DTSTART:20240310T080000
END:DAYLIGHT
BEGIN:STANDARD
TZOFFSETFROM:-0500
TZOFFSETTO:-0600
TZNAME:CST
DTSTART:20241103T070000
END:STANDARD
END:VTIMEZONE
BEGIN:VTIMEZONE
TZID:America/Los_Angeles
BEGIN:DAYLIGHT
TZOFFSETFROM:-0800
TZOFFSETTO:-0700
TZNAME:PDT
DTSTART:20220313T100000
END:DAYLIGHT
BEGIN:STANDARD
TZOFFSETFROM:-0700
TZOFFSETTO:-0800
TZNAME:PST
DTSTART:20221106T090000
END:STANDARD
BEGIN:DAYLIGHT
TZOFFSETFROM:-0800
TZOFFSETTO:-0700
TZNAME:PDT
DTSTART:20230312T100000
END:DAYLIGHT
BEGIN:STANDARD
TZOFFSETFROM:-0700
TZOFFSETTO:-0800
TZNAME:PST
DTSTART:20231105T090000
END:STANDARD
BEGIN:DAYLIGHT
TZOFFSETFROM:-0800
TZOFFSETTO:-0700
TZNAME:PDT
DTSTART:20240310T100000
END:DAYLIGHT
BEGIN:STANDARD
TZOFFSETFROM:-0700
TZOFFSETTO:-0800
TZNAME:PST
DTSTART:20241103T090000
END:STANDARD
END:VTIMEZONE
BEGIN:VEVENT
DTSTART;TZID=America/Chicago:20231113T150000
DTEND;TZID=America/Chicago:20231113T163000
DTSTAMP:20260419T153206
CREATED:20231102T194537Z
LAST-MODIFIED:20231102T194537Z
UID:10000509-1699887600-1699893000@woodshumanesociety.org
SUMMARY:Volunteer Orientation SLO Location
DESCRIPTION:Woods volunteers must be 18 years of age or older. If you are interested in opportunities for those under 18 years old\, please visit our Youth Volunteers section of the Get Involved page. \n\n\n                \n                        InstagramThis field is for validation purposes and should be left unchanged.Are you 18 years of age or older?*YesNoFOR SAN LUIS OBISPO — Please choose from the following:*\n			\n				\n				I would like to volunteer as an individual.\n			\n			\n				\n				I would like to volunteer for community service hours.\n			Contact InformationName*\n                            \n                            \n                                                    \n                                                    First\n                                                \n                            \n                            \n                                                    \n                                                    Last\n                                                \n                            \n                        Address*    \n                    \n                         \n                                        \n                                        Street Address\n                                    \n                                    \n                                    City\n                                 \n                                        \n                                        State / Province / Region\n                                      \n                                    \n                                    ZIP / Postal Code\n                                \n                    \n                Phone*Okay to text this number?\n			\n				\n				Yes\n			\n			\n				\n				No\n			Email*\n                            \n                        What is your preferred method of contact?*Select oneCell phone - callCell phone - textEmailI am interested in the following shifts:\n						\n						Select All\n					\n								\n								Animal Care and Cleaning (7 days/week\, 9 am - 12 pm)\n							\n								\n								Cattery Adoptions (7 days/week\, 12 pm - 2 pm\, 2 pm - 4 pm)\n							\n								\n								Dog Enrichment (7 days/week\, 1 pm - 3 pm)\n							\n								\n								Dog Walking (Sunday - Thursday\, 3 pm - 5 pm)\n							\n								\n								Surgery Assistance (Monday - Friday\, 9 am - 12 pm)\n							Shift availability and times are frequently updated! If these times do not work for you\, check back soon for more opportunities!
URL:https://woodshumanesociety.org/event/volunteer-orientation-slo-location-20/
LOCATION:Woods Humane Society SLO\, 875 Oklahoma Ave\, San Luis Obispo\, CA\, 93405\, United States
CATEGORIES:Volunteer Orientation
ATTACH;FMTTYPE=image/jpeg:https://woodshumanesociety.org/wp-content/uploads/2020/11/donate-content-1.jpg
END:VEVENT
BEGIN:VEVENT
DTSTART;TZID=America/Chicago:20231119T100000
DTEND;TZID=America/Chicago:20231119T110000
DTSTAMP:20260419T153206
CREATED:20230921T175947Z
LAST-MODIFIED:20231031T200219Z
UID:10000493-1700388000-1700391600@woodshumanesociety.org
SUMMARY:Volunteer Orientation North County Location
DESCRIPTION:This is a volunteer orientation for our North County facility. Volunteers interested in working with dogs or in SLO must sign up for an orientation at our SLO location. Please check the calendar for our next event. \nWoods volunteers must be 18 years of age or older. If you are interested in opportunities for those under 18 years old\, please visit our Youth Volunteers section of the Get Involved page.
URL:https://woodshumanesociety.org/event/volunteer-orientation-north-county-location-33/
LOCATION:Woods Humane Society North County\, 2300 Ramona Rd.\, Atascadero\,\, CA\, 93422\, United States
CATEGORIES:Volunteer Orientation
ATTACH;FMTTYPE=image/jpeg:https://woodshumanesociety.org/wp-content/uploads/2020/12/Get-Involved-content-1.jpg
END:VEVENT
BEGIN:VEVENT
DTSTART;TZID=America/Los_Angeles:20231123T080000
DTEND;TZID=America/Los_Angeles:20231123T170000
DTSTAMP:20260419T153206
CREATED:20231030T183804Z
LAST-MODIFIED:20231030T184106Z
UID:10000501-1700726400-1700758800@woodshumanesociety.org
SUMMARY:Woods Humane Society Closed for the Holiday
DESCRIPTION:We are closed for the holiday! Please come visit us tomorrow from 12 p.m. to 5 p.m.
URL:https://woodshumanesociety.org/event/woods-humane-society-closed-for-holiday/2023-11-23/
LOCATION:Woods Humane Society\, 875 Oklahoma Ave\, San Luis Obispo\, 93405\, United States
CATEGORIES:Events
ATTACH;FMTTYPE=image/jpeg:https://woodshumanesociety.org/wp-content/uploads/2023/10/We-are-closed.jpg
END:VEVENT
END:VCALENDAR