BEGIN:VCALENDAR
VERSION:2.0
PRODID:-//Woods Humane Society - ECPv6.15.20//NONSGML v1.0//EN
CALSCALE:GREGORIAN
METHOD:PUBLISH
X-ORIGINAL-URL:https://woodshumanesociety.org
X-WR-CALDESC:Events for Woods Humane Society
REFRESH-INTERVAL;VALUE=DURATION:PT1H
X-Robots-Tag:noindex
X-PUBLISHED-TTL:PT1H
BEGIN:VTIMEZONE
TZID:America/Los_Angeles
BEGIN:DAYLIGHT
TZOFFSETFROM:-0800
TZOFFSETTO:-0700
TZNAME:PDT
DTSTART:20220313T100000
END:DAYLIGHT
BEGIN:STANDARD
TZOFFSETFROM:-0700
TZOFFSETTO:-0800
TZNAME:PST
DTSTART:20221106T090000
END:STANDARD
BEGIN:DAYLIGHT
TZOFFSETFROM:-0800
TZOFFSETTO:-0700
TZNAME:PDT
DTSTART:20230312T100000
END:DAYLIGHT
BEGIN:STANDARD
TZOFFSETFROM:-0700
TZOFFSETTO:-0800
TZNAME:PST
DTSTART:20231105T090000
END:STANDARD
BEGIN:DAYLIGHT
TZOFFSETFROM:-0800
TZOFFSETTO:-0700
TZNAME:PDT
DTSTART:20240310T100000
END:DAYLIGHT
BEGIN:STANDARD
TZOFFSETFROM:-0700
TZOFFSETTO:-0800
TZNAME:PST
DTSTART:20241103T090000
END:STANDARD
END:VTIMEZONE
BEGIN:VTIMEZONE
TZID:America/Chicago
BEGIN:DAYLIGHT
TZOFFSETFROM:-0600
TZOFFSETTO:-0500
TZNAME:CDT
DTSTART:20220313T080000
END:DAYLIGHT
BEGIN:STANDARD
TZOFFSETFROM:-0500
TZOFFSETTO:-0600
TZNAME:CST
DTSTART:20221106T070000
END:STANDARD
BEGIN:DAYLIGHT
TZOFFSETFROM:-0600
TZOFFSETTO:-0500
TZNAME:CDT
DTSTART:20230312T080000
END:DAYLIGHT
BEGIN:STANDARD
TZOFFSETFROM:-0500
TZOFFSETTO:-0600
TZNAME:CST
DTSTART:20231105T070000
END:STANDARD
BEGIN:DAYLIGHT
TZOFFSETFROM:-0600
TZOFFSETTO:-0500
TZNAME:CDT
DTSTART:20240310T080000
END:DAYLIGHT
BEGIN:STANDARD
TZOFFSETFROM:-0500
TZOFFSETTO:-0600
TZNAME:CST
DTSTART:20241103T070000
END:STANDARD
END:VTIMEZONE
BEGIN:VEVENT
DTSTART;TZID=America/Los_Angeles:20231206T180000
DTEND;TZID=America/Los_Angeles:20231206T190000
DTSTAMP:20260419T170854
CREATED:20231017T171355Z
LAST-MODIFIED:20231017T171355Z
UID:10000497-1701885600-1701889200@woodshumanesociety.org
SUMMARY:Paws to Remember
DESCRIPTION:Hospice SLO County will hold a Paws To Remember Remembrance Ceremony for pets on Wednesday\, December 6\, at 6 p.m. Join Woods at the Hospice SLO County office\, at 1304 Pacific St.\, to hear music\, an inspirational message\, a Woods guest speaker\, poetry\, the reading of names\, and the lighting of candles. Click here to learn more.
URL:https://woodshumanesociety.org/event/paws-to-remember-2/
LOCATION:Hospice SLO County\, 1304 Pacific St.\, San Luis Obispo\, CA\, 93405\, United States
ATTACH;FMTTYPE=image/jpeg:https://woodshumanesociety.org/wp-content/uploads/2023/10/PAWS-2023-Flyer-scaled.jpg
ORGANIZER;CN="Hospice SLO County":MAILTO:https://hospiceslo.org/contact-us
END:VEVENT
BEGIN:VEVENT
DTSTART;TZID=America/Chicago:20231210T110000
DTEND;TZID=America/Chicago:20231210T123000
DTSTAMP:20260419T170854
CREATED:20231125T003036Z
LAST-MODIFIED:20231125T003036Z
UID:10000510-1702206000-1702211400@woodshumanesociety.org
SUMMARY:Volunteer Orientation SLO Location
DESCRIPTION:Woods volunteers must be 18 years of age or older. If you are interested in opportunities for those under 18 years old\, please visit our Youth Volunteers section of the Get Involved page. \nThis volunteer orientation class is now full. To be added to a cancellation list\, please email volunteer@woodshumanesociety.org!
URL:https://woodshumanesociety.org/event/volunteer-orientation-slo-location-21/
LOCATION:Woods Humane Society SLO\, 875 Oklahoma Ave\, San Luis Obispo\, CA\, 93405\, United States
CATEGORIES:Volunteer Orientation
ATTACH;FMTTYPE=image/jpeg:https://woodshumanesociety.org/wp-content/uploads/2020/11/donate-content-1.jpg
END:VEVENT
BEGIN:VEVENT
DTSTART;TZID=America/Los_Angeles:20231210T110000
DTEND;TZID=America/Los_Angeles:20231216T210000
DTSTAMP:20260419T170854
CREATED:20231130T230049Z
LAST-MODIFIED:20231130T230049Z
UID:10000513-1702206000-1702760400@woodshumanesociety.org
SUMMARY:Mountain Mike's Pizza - Woods Fundraiser
DESCRIPTION:From December 10th to the 16th\, 30% of all phone or dine-in orders at Mountain Mike’s Pizza in Pismo Beach and Atascadero will benefit Woods. Just use the code word “WOODS” when you order to get your pizza\, and help pets\, too!
URL:https://woodshumanesociety.org/event/mountain-mikes-pizza-woods-fundraiser/
LOCATION:Mountain Mike's Pizza
CATEGORIES:Events
ATTACH;FMTTYPE=image/jpeg:https://woodshumanesociety.org/wp-content/uploads/2023/11/PismoBeachGOEFlyer8.5x11-002.jpg
END:VEVENT
BEGIN:VEVENT
DTSTART;TZID=America/Chicago:20231217T100000
DTEND;TZID=America/Chicago:20231217T110000
DTSTAMP:20260419T170854
CREATED:20231130T172418Z
LAST-MODIFIED:20231130T172418Z
UID:10000512-1702807200-1702810800@woodshumanesociety.org
SUMMARY:Volunteer Orientation North County Location
DESCRIPTION:This is a volunteer orientation for our North County facility. Volunteers interested in working with dogs or in SLO must sign up for an orientation at our SLO location. Please check the calendar for our next event. \nWoods volunteers must be 18 years of age or older. If you are interested in opportunities for those under 18 years old\, please visit our Youth Volunteers section of the Get Involved page.
URL:https://woodshumanesociety.org/event/volunteer-orientation-north-county-location-35/
LOCATION:Woods Humane Society North County\, 2300 Ramona Rd.\, Atascadero\,\, CA\, 93422\, United States
CATEGORIES:Volunteer Orientation
ATTACH;FMTTYPE=image/jpeg:https://woodshumanesociety.org/wp-content/uploads/2020/12/Get-Involved-content-1.jpg
END:VEVENT
BEGIN:VEVENT
DTSTART;TZID=America/Los_Angeles:20231217T170000
DTEND;TZID=America/Los_Angeles:20231217T200000
DTSTAMP:20260419T170854
CREATED:20231129T194629Z
LAST-MODIFIED:20231129T194629Z
UID:10000511-1702832400-1702843200@woodshumanesociety.org
SUMMARY:Sans Liege Holiday Pop-up Shop
DESCRIPTION:Sip\, shop and support Woods at the 8th Annual Sans Liege Holiday Pop-up Shop in Pismo Beach on Sunday\, December 17\, from 5-8 p.m. Guests can enjoy local vendors\, wine by the glass and a prize drawing benefitting Woods Humane Society.
URL:https://woodshumanesociety.org/event/sans-liege-holiday-pop-up-shop/
LOCATION:Sans Liege Wines\, 870 Price St\, Pismo Beach\, CA\, CA\, 93449\, United States
CATEGORIES:Events
ATTACH;FMTTYPE=image/png:https://woodshumanesociety.org/wp-content/uploads/2023/11/SL_xmas23_INSTA.png
END:VEVENT
BEGIN:VEVENT
DTSTART;TZID=America/Los_Angeles:20231225T080000
DTEND;TZID=America/Los_Angeles:20231225T170000
DTSTAMP:20260419T170854
CREATED:20231030T183804Z
LAST-MODIFIED:20231030T184106Z
UID:10000502-1703491200-1703523600@woodshumanesociety.org
SUMMARY:Woods Humane Society Closed for the Holiday
DESCRIPTION:We are closed for the holiday! Please come visit us tomorrow from 12 p.m. to 5 p.m.
URL:https://woodshumanesociety.org/event/woods-humane-society-closed-for-holiday/2023-12-25/
LOCATION:Woods Humane Society\, 875 Oklahoma Ave\, San Luis Obispo\, 93405\, United States
CATEGORIES:Events
ATTACH;FMTTYPE=image/jpeg:https://woodshumanesociety.org/wp-content/uploads/2023/10/We-are-closed.jpg
END:VEVENT
END:VCALENDAR