BEGIN:VCALENDAR
VERSION:2.0
PRODID:-//Woods Humane Society - ECPv6.15.20//NONSGML v1.0//EN
CALSCALE:GREGORIAN
METHOD:PUBLISH
X-WR-CALNAME:Woods Humane Society
X-ORIGINAL-URL:https://woodshumanesociety.org
X-WR-CALDESC:Events for Woods Humane Society
REFRESH-INTERVAL;VALUE=DURATION:PT1H
X-Robots-Tag:noindex
X-PUBLISHED-TTL:PT1H
BEGIN:VTIMEZONE
TZID:America/Los_Angeles
BEGIN:DAYLIGHT
TZOFFSETFROM:-0800
TZOFFSETTO:-0700
TZNAME:PDT
DTSTART:20230312T100000
END:DAYLIGHT
BEGIN:STANDARD
TZOFFSETFROM:-0700
TZOFFSETTO:-0800
TZNAME:PST
DTSTART:20231105T090000
END:STANDARD
BEGIN:DAYLIGHT
TZOFFSETFROM:-0800
TZOFFSETTO:-0700
TZNAME:PDT
DTSTART:20240310T100000
END:DAYLIGHT
BEGIN:STANDARD
TZOFFSETFROM:-0700
TZOFFSETTO:-0800
TZNAME:PST
DTSTART:20241103T090000
END:STANDARD
BEGIN:DAYLIGHT
TZOFFSETFROM:-0800
TZOFFSETTO:-0700
TZNAME:PDT
DTSTART:20250309T100000
END:DAYLIGHT
BEGIN:STANDARD
TZOFFSETFROM:-0700
TZOFFSETTO:-0800
TZNAME:PST
DTSTART:20251102T090000
END:STANDARD
END:VTIMEZONE
BEGIN:VTIMEZONE
TZID:America/Chicago
BEGIN:DAYLIGHT
TZOFFSETFROM:-0600
TZOFFSETTO:-0500
TZNAME:CDT
DTSTART:20230312T080000
END:DAYLIGHT
BEGIN:STANDARD
TZOFFSETFROM:-0500
TZOFFSETTO:-0600
TZNAME:CST
DTSTART:20231105T070000
END:STANDARD
BEGIN:DAYLIGHT
TZOFFSETFROM:-0600
TZOFFSETTO:-0500
TZNAME:CDT
DTSTART:20240310T080000
END:DAYLIGHT
BEGIN:STANDARD
TZOFFSETFROM:-0500
TZOFFSETTO:-0600
TZNAME:CST
DTSTART:20241103T070000
END:STANDARD
BEGIN:DAYLIGHT
TZOFFSETFROM:-0600
TZOFFSETTO:-0500
TZNAME:CDT
DTSTART:20250309T080000
END:DAYLIGHT
BEGIN:STANDARD
TZOFFSETFROM:-0500
TZOFFSETTO:-0600
TZNAME:CST
DTSTART:20251102T070000
END:STANDARD
END:VTIMEZONE
BEGIN:VEVENT
DTSTART;TZID=America/Los_Angeles:20241106T153000
DTEND;TZID=America/Los_Angeles:20241106T163000
DTSTAMP:20260421T154130
CREATED:20241023T222610Z
LAST-MODIFIED:20241023T222749Z
UID:10001003-1730907000-1730910600@woodshumanesociety.org
SUMMARY:Book Buddies SLO - 11-6
DESCRIPTION:Calling all young bookworms! Woods is welcoming animal lovers age 7-17 to join us in reading to our furry friends! A non-refundable registration fee of $5 reserves your spot and allows us to continue growing our youth programs and changing the lives of dogs and cats in our community.
URL:https://woodshumanesociety.org/event/book-buddies-slo-11-6/
LOCATION:Woods Humane Society SLO\, 875 Oklahoma Ave\, San Luis Obispo\, CA\, 93405\, United States
CATEGORIES:Kids Program
ATTACH;FMTTYPE=image/png:https://woodshumanesociety.org/wp-content/uploads/2024/10/Book-Buddies-2024.png
END:VEVENT
BEGIN:VEVENT
DTSTART;TZID=America/Los_Angeles:20241110T130000
DTEND;TZID=America/Los_Angeles:20241110T143000
DTSTAMP:20260421T154130
CREATED:20241023T215953Z
LAST-MODIFIED:20241023T215953Z
UID:10000999-1731243600-1731249000@woodshumanesociety.org
SUMMARY:Care Crew - 11-10
DESCRIPTION:Calling all crafty\, caring\, pet-loving kids ages 7-17! Care Crew members will have the opportunity to join us in filling Kongs for our canines to enjoy in their kennels\, crafting homemade pet toys\, competing in a scavenger hunt\, and getting our hands dirty in the Woods Memorial Garden. A non-refundable $5 registration fee reserves your spot and allows us to care for our animals & continue our Youth Programs! Care Crew will be held at our Woods SLO location!
URL:https://woodshumanesociety.org/event/care-crew-11-10-24/
LOCATION:Woods Humane Society SLO\, 875 Oklahoma Ave\, San Luis Obispo\, CA\, 93405\, United States
CATEGORIES:Kids Program
ATTACH;FMTTYPE=image/png:https://woodshumanesociety.org/wp-content/uploads/2024/10/Care-Crew-2024.png
END:VEVENT
BEGIN:VEVENT
DTSTART;TZID=America/Los_Angeles:20241113T153000
DTEND;TZID=America/Los_Angeles:20241113T163000
DTSTAMP:20260421T154130
CREATED:20241023T223042Z
LAST-MODIFIED:20241023T223042Z
UID:10001004-1731511800-1731515400@woodshumanesociety.org
SUMMARY:Book Buddies SLO - 11-13
DESCRIPTION:Calling all young bookworms! Woods is welcoming animal lovers age 7-17 to join us in reading to our furry friends! A non-refundable registration fee of $5 reserves your spot and allows us to continue growing our youth programs and changing the lives of dogs and cats in our community.
URL:https://woodshumanesociety.org/event/book-buddies-slo-11-13/
LOCATION:Woods Humane Society SLO\, 875 Oklahoma Ave\, San Luis Obispo\, CA\, 93405\, United States
CATEGORIES:Kids Program
ATTACH;FMTTYPE=image/png:https://woodshumanesociety.org/wp-content/uploads/2024/10/Book-Buddies-2024.png
END:VEVENT
BEGIN:VEVENT
DTSTART;TZID=America/Los_Angeles:20241114T170000
DTEND;TZID=America/Los_Angeles:20241114T190000
DTSTAMP:20260421T154130
CREATED:20240909T183103Z
LAST-MODIFIED:20240909T185734Z
UID:10000616-1731603600-1731610800@woodshumanesociety.org
SUMMARY:Paws to Remember
DESCRIPTION:Hospice SLO County and Woods Humane Society invite you to the Light Up a Life Ceremony\, Paws to Remember\, happening on Thursday\, November 14\, 2024\n5 - 6 PM: Refreshments and resources\n6 - 7 PM: Pet remembrance ceremony \nThe holidays symbolize a time when friends and family gather in celebration. It can also be a difficult and emotional time for those grieving the loss of a pet. Pawsto Remember offers the community an opportunity to come together to remember our beloved pets. You are invited to make a donation and receive a lantern in memory of a beloved pet. Your pet’s name will be read at the Pawsto Remember ceremony. You are also invited to share a photo of your pet at the ceremony. With your donation\, your Light Up A Life lantern ornament will be mailed to you to keep or for you to send to the family of the pet you are remembering. \nWoods Humane Society\n875 Oklahoma Ave\, San Luis Obispo \nThis ceremony is free to attend.\nProceeds will support Hospice SLO County's Pet Peace of Mind program.\nClick here or call 805-544-2266 for more information.
URL:https://woodshumanesociety.org/event/paws-to-remember-3/
LOCATION:Woods Humane Society\, 875 Oklahoma Ave\, San Luis Obispo\, 93405\, United States
ATTACH;FMTTYPE=image/jpeg:https://woodshumanesociety.org/wp-content/uploads/2024/09/ptr.jpg
ORGANIZER;CN="Hospice SLO County":MAILTO:https://hospiceslo.org/contact-us
END:VEVENT
BEGIN:VEVENT
DTSTART;TZID=America/Los_Angeles:20241115T173000
DTEND;TZID=America/Los_Angeles:20241115T200000
DTSTAMP:20260421T154130
CREATED:20241021T221606Z
LAST-MODIFIED:20241021T221606Z
UID:10000996-1731691800-1731700800@woodshumanesociety.org
SUMMARY:Holiday Tree Auction
DESCRIPTION:Woods will be decorating one of the ten unique holiday trees featured at the Enchanted Evening at the Dallidet: Holiday Tree Auction on November 15th\, from 5:30 - 8:00 p.m. Tickets are now available to this festive event and we invite you to come\, bid on a beautifully decorated holiday tree\, sip sparkling champagne\, savor gourmet treats\, and mingle with fellow supporters. Every bid placed on our tree will help the dogs and cats we serve!
URL:https://woodshumanesociety.org/event/holiday-tree-auction/
LOCATION:Dallidet Adobe\, 1185 Pacific Street\, San Luis Obispo\, 93401\, United States
CATEGORIES:Events
ATTACH;FMTTYPE=image/jpeg:https://woodshumanesociety.org/wp-content/uploads/2024/10/Holiday-Tree-Auction-scaled.jpg
END:VEVENT
BEGIN:VEVENT
DTSTART;TZID=America/Chicago:20241117T103000
DTEND;TZID=America/Chicago:20241117T113000
DTSTAMP:20260421T154130
CREATED:20241010T170015Z
LAST-MODIFIED:20241028T191834Z
UID:10000613-1731839400-1731843000@woodshumanesociety.org
SUMMARY:Volunteer Orientation North County Location
DESCRIPTION:This is a volunteer orientation for our North County facility. We are a cats only shelter. Volunteers interested in working with dogs or in SLO must sign up for an orientation at our SLO location. Please check the calendar for our next event. \nWoods volunteers must be 18 years of age or older. If you are interested in opportunities for those under 18 years old\, please visit our Youth Volunteers section of the Get Involved page.
URL:https://woodshumanesociety.org/event/volunteer-orientation-north-county-location-44/
LOCATION:Woods Humane Society North County\, 2300 Ramona Rd.\, Atascadero\,\, CA\, 93422\, United States
CATEGORIES:Volunteer Orientation
ATTACH;FMTTYPE=image/jpeg:https://woodshumanesociety.org/wp-content/uploads/2020/12/Get-Involved-content-1.jpg
END:VEVENT
BEGIN:VEVENT
DTSTART;TZID=America/Chicago:20241117T110000
DTEND;TZID=America/Chicago:20241117T123000
DTSTAMP:20260421T154130
CREATED:20241104T231208Z
LAST-MODIFIED:20241104T231208Z
UID:10001007-1731841200-1731846600@woodshumanesociety.org
SUMMARY:Volunteer Orientation SLO Location
DESCRIPTION:Woods volunteers must be 18 years of age or older. If you are interested in opportunities for those under 18 years old\, please visit our Youth Volunteers section of the Get Involved page. \nThis volunteer orientation class is now full. To be added to a cancellation list\, please email volunteer@woodshumanesociety.org!
URL:https://woodshumanesociety.org/event/volunteer-orientation-slo-location-29/
LOCATION:Woods Humane Society SLO\, 875 Oklahoma Ave\, San Luis Obispo\, CA\, 93405\, United States
CATEGORIES:Volunteer Orientation
ATTACH;FMTTYPE=image/jpeg:https://woodshumanesociety.org/wp-content/uploads/2020/11/donate-content-1.jpg
END:VEVENT
BEGIN:VEVENT
DTSTART;TZID=America/Los_Angeles:20241117T130000
DTEND;TZID=America/Los_Angeles:20241117T143000
DTSTAMP:20260421T154130
CREATED:20241023T220417Z
LAST-MODIFIED:20241023T220417Z
UID:10001000-1731848400-1731853800@woodshumanesociety.org
SUMMARY:Care Crew - 11-17
DESCRIPTION:Calling all crafty\, caring\, pet-loving kids ages 7-17! Care Crew members will have the opportunity to join us in filling Kongs for our canines to enjoy in their kennels\, crafting homemade pet toys\, competing in a scavenger hunt\, and getting our hands dirty in the Woods Memorial Garden. A non-refundable $5 registration fee reserves your spot and allows us to care for our animals & continue our Youth Programs! Care Crew will be held at our Woods SLO location!
URL:https://woodshumanesociety.org/event/care-crew-11-17/
LOCATION:Woods Humane Society SLO\, 875 Oklahoma Ave\, San Luis Obispo\, CA\, 93405\, United States
CATEGORIES:Kids Program
ATTACH;FMTTYPE=image/png:https://woodshumanesociety.org/wp-content/uploads/2024/10/Care-Crew-2024.png
END:VEVENT
BEGIN:VEVENT
DTSTART;TZID=America/Los_Angeles:20241119T153000
DTEND;TZID=America/Los_Angeles:20241119T163000
DTSTAMP:20260421T154130
CREATED:20241023T221138Z
LAST-MODIFIED:20241023T221138Z
UID:10001001-1732030200-1732033800@woodshumanesociety.org
SUMMARY:Book Buddies North County - 11-19
DESCRIPTION:Calling all young bookworms! Woods is welcoming animal lovers age 7-17 to join us in reading to our furry friends! A non-refundable registration fee of $5 reserves your spot and allows us to continue growing our youth programs and changing the lives of dogs and cats in our community.
URL:https://woodshumanesociety.org/event/book-buddies-north-county-11-19/
LOCATION:Woods Humane Society North County\, 2300 Ramona Rd.\, Atascadero\,\, CA\, 93422\, United States
CATEGORIES:Kids Program
ATTACH;FMTTYPE=image/png:https://woodshumanesociety.org/wp-content/uploads/2024/10/Book-Buddies-2024.png
END:VEVENT
BEGIN:VEVENT
DTSTART;TZID=America/Los_Angeles:20241122T153000
DTEND;TZID=America/Los_Angeles:20241122T170000
DTSTAMP:20260421T154130
CREATED:20241106T231546Z
LAST-MODIFIED:20241121T221547Z
UID:10001009-1732289400-1732294800@woodshumanesociety.org
SUMMARY:National Family Volunteer Day
DESCRIPTION:Join Woods Humane Society for National Family Volunteer Day! A fun-filled afternoon celebrating family\, compassion and the spirit of giving back... all in support of the dogs and cats of Woods!
URL:https://woodshumanesociety.org/event/national-family-volunteer-day/
LOCATION:Woods Humane Society SLO\, 875 Oklahoma Ave\, San Luis Obispo\, CA\, 93405\, United States
CATEGORIES:Events,Kids Program
ATTACH;FMTTYPE=image/jpeg:https://woodshumanesociety.org/wp-content/uploads/2024/11/Screenshot_7-11-2024_84911_.jpeg
END:VEVENT
BEGIN:VEVENT
DTSTART;TZID=America/Los_Angeles:20241126T153000
DTEND;TZID=America/Los_Angeles:20241126T163000
DTSTAMP:20260421T154130
CREATED:20241023T221801Z
LAST-MODIFIED:20241023T221801Z
UID:10001002-1732635000-1732638600@woodshumanesociety.org
SUMMARY:Book Buddies North County - 11-26
DESCRIPTION:Calling all young bookworms! Woods is welcoming animal lovers age 7-17 to join us in reading to our furry friends! A non-refundable registration fee of $5 reserves your spot and allows us to continue growing our youth programs and changing the lives of dogs and cats in our community.
URL:https://woodshumanesociety.org/event/book-buddies-north-county-11-26/
LOCATION:Woods Humane Society North County\, 2300 Ramona Rd.\, Atascadero\,\, CA\, 93422\, United States
CATEGORIES:Kids Program
ATTACH;FMTTYPE=image/png:https://woodshumanesociety.org/wp-content/uploads/2024/10/Book-Buddies-2024.png
END:VEVENT
END:VCALENDAR