BEGIN:VCALENDAR
VERSION:2.0
PRODID:-//Woods Humane Society - ECPv6.15.20//NONSGML v1.0//EN
CALSCALE:GREGORIAN
METHOD:PUBLISH
X-WR-CALNAME:Woods Humane Society
X-ORIGINAL-URL:https://woodshumanesociety.org
X-WR-CALDESC:Events for Woods Humane Society
REFRESH-INTERVAL;VALUE=DURATION:PT1H
X-Robots-Tag:noindex
X-PUBLISHED-TTL:PT1H
BEGIN:VTIMEZONE
TZID:America/Los_Angeles
BEGIN:DAYLIGHT
TZOFFSETFROM:-0800
TZOFFSETTO:-0700
TZNAME:PDT
DTSTART:20240310T100000
END:DAYLIGHT
BEGIN:STANDARD
TZOFFSETFROM:-0700
TZOFFSETTO:-0800
TZNAME:PST
DTSTART:20241103T090000
END:STANDARD
BEGIN:DAYLIGHT
TZOFFSETFROM:-0800
TZOFFSETTO:-0700
TZNAME:PDT
DTSTART:20250309T100000
END:DAYLIGHT
BEGIN:STANDARD
TZOFFSETFROM:-0700
TZOFFSETTO:-0800
TZNAME:PST
DTSTART:20251102T090000
END:STANDARD
BEGIN:DAYLIGHT
TZOFFSETFROM:-0800
TZOFFSETTO:-0700
TZNAME:PDT
DTSTART:20260308T100000
END:DAYLIGHT
BEGIN:STANDARD
TZOFFSETFROM:-0700
TZOFFSETTO:-0800
TZNAME:PST
DTSTART:20261101T090000
END:STANDARD
END:VTIMEZONE
BEGIN:VTIMEZONE
TZID:America/Chicago
BEGIN:DAYLIGHT
TZOFFSETFROM:-0600
TZOFFSETTO:-0500
TZNAME:CDT
DTSTART:20240310T080000
END:DAYLIGHT
BEGIN:STANDARD
TZOFFSETFROM:-0500
TZOFFSETTO:-0600
TZNAME:CST
DTSTART:20241103T070000
END:STANDARD
BEGIN:DAYLIGHT
TZOFFSETFROM:-0600
TZOFFSETTO:-0500
TZNAME:CDT
DTSTART:20250309T080000
END:DAYLIGHT
BEGIN:STANDARD
TZOFFSETFROM:-0500
TZOFFSETTO:-0600
TZNAME:CST
DTSTART:20251102T070000
END:STANDARD
BEGIN:DAYLIGHT
TZOFFSETFROM:-0600
TZOFFSETTO:-0500
TZNAME:CDT
DTSTART:20260308T080000
END:DAYLIGHT
BEGIN:STANDARD
TZOFFSETFROM:-0500
TZOFFSETTO:-0600
TZNAME:CST
DTSTART:20261101T070000
END:STANDARD
END:VTIMEZONE
BEGIN:VEVENT
DTSTART;TZID=America/Los_Angeles:20250105T130000
DTEND;TZID=America/Los_Angeles:20250105T143000
DTSTAMP:20260423T002853
CREATED:20241218T182838Z
LAST-MODIFIED:20241218T182838Z
UID:10001022-1736082000-1736087400@woodshumanesociety.org
SUMMARY:Care Crew 01-05-25
DESCRIPTION:Calling all crafty\, caring\, pet-loving kids ages 7-17! Care Crew members will have the opportunity to join us in filling Kongs for our canines to enjoy in their kennels\, crafting homemade pet toys\, competing in a scavenger hunt\, and getting our hands dirty in the Woods Memorial Garden. A non-refundable $5 registration fee reserves your spot and allows us to care for our animals & continue our Youth Programs! Care Crew will be held at our Woods SLO location!
URL:https://woodshumanesociety.org/event/care-crew-01-05-25/
LOCATION:Woods Humane Society SLO\, 875 Oklahoma Ave\, San Luis Obispo\, CA\, 93405\, United States
CATEGORIES:Events,Kids Program
ATTACH;FMTTYPE=image/png:https://woodshumanesociety.org/wp-content/uploads/2024/10/Care-Crew-2024.png
END:VEVENT
BEGIN:VEVENT
DTSTART;TZID=America/Los_Angeles:20250107T153000
DTEND;TZID=America/Los_Angeles:20250107T163000
DTSTAMP:20260423T002853
CREATED:20241218T210848Z
LAST-MODIFIED:20241218T210848Z
UID:10001026-1736263800-1736267400@woodshumanesociety.org
SUMMARY:Book Buddies North County 01-07-25
DESCRIPTION:Calling all young bookworms! Woods is welcoming animal lovers age 7-17 to join us in reading to our furry friends! A non-refundable registration fee of $5 reserves your spot and allows us to continue growing our youth programs and changing the lives of dogs and cats in our community.
URL:https://woodshumanesociety.org/event/book-buddies-north-county-01-07-25/
LOCATION:Woods Humane Society North County\, 2300 Ramona Rd.\, Atascadero\,\, CA\, 93422\, United States
CATEGORIES:Events,Kids Program
ATTACH;FMTTYPE=image/png:https://woodshumanesociety.org/wp-content/uploads/2024/10/Book-Buddies-2024.png
END:VEVENT
BEGIN:VEVENT
DTSTART;TZID=America/Los_Angeles:20250108T153000
DTEND;TZID=America/Los_Angeles:20250108T163000
DTSTAMP:20260423T002853
CREATED:20241218T220137Z
LAST-MODIFIED:20241218T220137Z
UID:10001030-1736350200-1736353800@woodshumanesociety.org
SUMMARY:Book Buddies SLO 01-08-25
DESCRIPTION:Calling all young bookworms! Woods is welcoming animal lovers age 7-17 to join us in reading to our furry friends! A non-refundable registration fee of $5 reserves your spot and allows us to continue growing our youth programs and changing the lives of dogs and cats in our community.
URL:https://woodshumanesociety.org/event/book-buddies-slo-01-08-25/
LOCATION:Woods Humane Society SLO\, 875 Oklahoma Ave\, San Luis Obispo\, CA\, 93405\, United States
CATEGORIES:Events,Kids Program
ATTACH;FMTTYPE=image/png:https://woodshumanesociety.org/wp-content/uploads/2024/10/Book-Buddies-2024.png
END:VEVENT
BEGIN:VEVENT
DTSTART;TZID=America/Los_Angeles:20250118T120000
DTEND;TZID=America/Los_Angeles:20250118T160000
DTSTAMP:20260423T002853
CREATED:20241107T234506Z
LAST-MODIFIED:20241107T234506Z
UID:10001013-1737201600-1737216000@woodshumanesociety.org
SUMMARY:Art for Paws
DESCRIPTION:Get ready for a fun & free event celebrating art and our furry friends\, benefiting Woods Humane Society and Studios on the Park! \n\nPet Caricatures by Savannah Reifers: Donate to Woods Humane Society to receive a unique\, hand-drawn pet caricature—done live or from your favorite photo.\nBring Your Leashed Dogs: Your four-legged companions are welcome on a leash!\nEnter to Win: Participate in a drawing for a custom pet portrait by Savannah Reifers. Proceeds benefit Woods Humane Society and Studios on the Park.\nDog Toy-Making Station: Create your own toys to keep tails wagging.\nSamples & Swag: Enjoy treats from Ziggy's and refreshing cider from Tin City Cider.\n'Walk Like An Animal' Art Exhibition: Experience our captivating exhibit\, on display through February.\n\nNo RSVP needed—just come and join the fun! See you there!
URL:https://woodshumanesociety.org/event/art-for-paws/
LOCATION:Studios on the Park\, 1130 Pine Street\, Paso Robles\, 93446\, United States
ATTACH;FMTTYPE=image/jpeg:https://woodshumanesociety.org/wp-content/uploads/2024/11/Art-for-Paws-Flyer-5.5-x-8.5-1-scaled.jpg
END:VEVENT
BEGIN:VEVENT
DTSTART;TZID=America/Chicago:20250119T103000
DTEND;TZID=America/Chicago:20250119T113000
DTSTAMP:20260423T002853
CREATED:20241208T180002Z
LAST-MODIFIED:20240825T204658Z
UID:10000615-1737282600-1737286200@woodshumanesociety.org
SUMMARY:Volunteer Orientation North County Location
DESCRIPTION:This is a volunteer orientation for our North County facility. Volunteers interested in working with dogs or in SLO must sign up for an orientation at our SLO location. Please check the calendar for our next event. \nWoods volunteers must be 18 years of age or older. If you are interested in opportunities for those under 18 years old\, please visit our Youth Volunteers section of the Get Involved page. \nRegistration for this orientation is full. Please sign up for a different date/time
URL:https://woodshumanesociety.org/event/volunteer-orientation-north-county-location-46/
LOCATION:Woods Humane Society North County\, 2300 Ramona Rd.\, Atascadero\,\, CA\, 93422\, United States
CATEGORIES:Volunteer Orientation
ATTACH;FMTTYPE=image/jpeg:https://woodshumanesociety.org/wp-content/uploads/2020/12/Get-Involved-content-1.jpg
END:VEVENT
BEGIN:VEVENT
DTSTART;TZID=America/Chicago:20250119T110000
DTEND;TZID=America/Chicago:20250119T123000
DTSTAMP:20260423T002853
CREATED:20250101T140020Z
LAST-MODIFIED:20241215T215337Z
UID:10001021-1737284400-1737289800@woodshumanesociety.org
SUMMARY:Volunteer Orientation SLO Location
DESCRIPTION:Woods volunteers must be 18 years of age or older. If you are interested in opportunities for those under 18 years old\, please visit our Youth Volunteers section of the Get Involved page. \nThis volunteer orientation class is now full.  Please check back on the 1st to register for next month's orientation!
URL:https://woodshumanesociety.org/event/volunteer-orientation-slo-location-30/
LOCATION:Woods Humane Society SLO\, 875 Oklahoma Ave\, San Luis Obispo\, CA\, 93405\, United States
CATEGORIES:Volunteer Orientation
ATTACH;FMTTYPE=image/jpeg:https://woodshumanesociety.org/wp-content/uploads/2020/11/donate-content-1.jpg
END:VEVENT
BEGIN:VEVENT
DTSTART;TZID=America/Chicago:20250119T110000
DTEND;TZID=America/Chicago:20250119T123000
DTSTAMP:20260423T002853
CREATED:20250301T080046Z
LAST-MODIFIED:20250106T201614Z
UID:10001035-1737284400-1737289800@woodshumanesociety.org
SUMMARY:Volunteer Orientation SLO Location
DESCRIPTION:Woods volunteers must be 18 years of age or older. If you are interested in opportunities for those under 18 years old\, please visit our Youth Volunteers section of the Get Involved page. \nThis volunteer orientation class is now full.  Please check back on the 1st to register for next month's orientation!
URL:https://woodshumanesociety.org/event/volunteer-orientation-slo-location-32/
LOCATION:Woods Humane Society SLO\, 875 Oklahoma Ave\, San Luis Obispo\, CA\, 93405\, United States
CATEGORIES:Volunteer Orientation
ATTACH;FMTTYPE=image/jpeg:https://woodshumanesociety.org/wp-content/uploads/2020/11/donate-content-1.jpg
END:VEVENT
BEGIN:VEVENT
DTSTART;TZID=America/Los_Angeles:20250122T153000
DTEND;TZID=America/Los_Angeles:20250122T163000
DTSTAMP:20260423T002853
CREATED:20241218T224750Z
LAST-MODIFIED:20241218T224750Z
UID:10001031-1737559800-1737563400@woodshumanesociety.org
SUMMARY:Book Buddies SLO 01-22-25
DESCRIPTION:Calling all young bookworms! Woods is welcoming animal lovers age 7-17 to join us in reading to our furry friends! A non-refundable registration fee of $5 reserves your spot and allows us to continue growing our youth programs and changing the lives of dogs and cats in our community.
URL:https://woodshumanesociety.org/event/book-buddies-slo-01-22-25/
LOCATION:Woods Humane Society SLO\, 875 Oklahoma Ave\, San Luis Obispo\, CA\, 93405\, United States
CATEGORIES:Events,Kids Program
ATTACH;FMTTYPE=image/png:https://woodshumanesociety.org/wp-content/uploads/2024/10/Book-Buddies-2024.png
END:VEVENT
BEGIN:VEVENT
DTSTART;TZID=America/Los_Angeles:20250125T100000
DTEND;TZID=America/Los_Angeles:20250125T120000
DTSTAMP:20260423T002853
CREATED:20241214T005354Z
LAST-MODIFIED:20241214T005354Z
UID:10001020-1737799200-1737806400@woodshumanesociety.org
SUMMARY:Coffee with the Cats
DESCRIPTION:Mark your calendars! Coffee with the Cats is coming back for year 2 at Woods in North County! Join us on Saturday\, January 25th from 10am-12pm to enjoy the cutest\, coziest\, best coffee date ever! \nCats \nCoffee \nVendors \nCat Crafts \nJoin us at 2300 Ramona Road! We’ll see you there!
URL:https://woodshumanesociety.org/event/coffee-with-the-cats-2/
LOCATION:Woods Humane Society North County\, 2300 Ramona Rd.\, Atascadero\,\, CA\, 93422\, United States
ATTACH;FMTTYPE=image/png:https://woodshumanesociety.org/wp-content/uploads/2024/12/Woods-Coffee-with-the-Cats-2025-FACEBOOK-INSTAGRAM.png
END:VEVENT
BEGIN:VEVENT
DTSTART;TZID=America/Los_Angeles:20250126T120000
DTEND;TZID=America/Los_Angeles:20250126T200000
DTSTAMP:20260423T002853
CREATED:20250120T181747Z
LAST-MODIFIED:20250120T181747Z
UID:10001036-1737892800-1737921600@woodshumanesociety.org
SUMMARY:Songs of Solace - A Benefit Concert for LA Wildfire Relief
DESCRIPTION:Rod & Hammer Rock is proud to announce “Songs of Solace – A Benefit Concert for LA Wildfire Relief” on Sunday\, January 26\, 2025\, from 12:00 PM to 8:00 PM. This extraordinary event will showcase the best local talent in the county\, with 100% of ticket sales going directly to the California Fire Foundation. The concert lineup features an incredible mix of artists\, including: Moonshiner Collective The Vibe Setters Funk Junket Zongo All-Stars Chris Beland Band Ryan Delmore Carbon City Lights Max Maclaury Mother Corn Shuckers and more! In addition to the music\, guests can participate in a community raffle featuring generous donations from local businesses\, with all proceeds going towards various wildfire relief programs. Rod & Hammer’s will also donate proceeds from Wildfire Resilience Straight Bourbon bottle sales made during the event to the California Fire Foundation. “Songs of Solace” is more than a concert—it’s a celebration of community spirit and resilience. “This is an opportunity to come together and support those affected by the devastating wildfires in Los Angeles\,” said the event organizers. “We’re honored to feature such incredible local talent and give back in a meaningful way.” The event will take place at Rod & Hammer Rock’s venue\, offering a full day of music\, connection\, and support for a vital cause. \nDetails: \n• What: Songs of Solace – A Benefit Concert for LA Wildfire Relief \n• When: Sunday\, January 26\, 2025 | 12:00 PM – 8:00 PM \n• Where: Rod & Hammer Rock\, 855 Aerovista Place\, San Luis Obispo \n• Why: To raise funds for the California Fire Foundation \n• Tickets: RIGHT HERE. \nJoin us for a day of incredible music\, community connection\, and heartfelt giving as we raise funds to support wildfire survivors. Together\, we can make a difference! \nWoods Humane Society will be at the event to share how they are helping the pets of LA County and how you can help from 12-4pm.
URL:https://woodshumanesociety.org/event/songs-of-solace-a-benefit-concert-for-la-wildfire-relief/
LOCATION:Rod & Hammer Rock\, 855 Aerovista Place\, San Luis Obispo\, 93401\, United States
ATTACH;FMTTYPE=image/png:https://woodshumanesociety.org/wp-content/uploads/2025/01/LA-relief.png
END:VEVENT
BEGIN:VEVENT
DTSTART;TZID=America/Los_Angeles:20250126T130000
DTEND;TZID=America/Los_Angeles:20250126T143000
DTSTAMP:20260423T002853
CREATED:20241218T183322Z
LAST-MODIFIED:20241218T183322Z
UID:10001023-1737896400-1737901800@woodshumanesociety.org
SUMMARY:Care Crew 01-26-25
DESCRIPTION:Calling all crafty\, caring\, pet-loving kids ages 7-17! Care Crew members will have the opportunity to join us in filling Kongs for our canines to enjoy in their kennels\, crafting homemade pet toys\, competing in a scavenger hunt\, and getting our hands dirty in the Woods Memorial Garden. A non-refundable $5 registration fee reserves your spot and allows us to care for our animals & continue our Youth Programs! Care Crew will be held at our Woods SLO location!
URL:https://woodshumanesociety.org/event/care-crew-01-26-25/
LOCATION:Woods Humane Society SLO\, 875 Oklahoma Ave\, San Luis Obispo\, CA\, 93405\, United States
CATEGORIES:Events,Kids Program
ATTACH;FMTTYPE=image/png:https://woodshumanesociety.org/wp-content/uploads/2024/10/Care-Crew-2024.png
END:VEVENT
BEGIN:VEVENT
DTSTART;TZID=America/Los_Angeles:20250128T153000
DTEND;TZID=America/Los_Angeles:20250128T163000
DTSTAMP:20260423T002853
CREATED:20241218T213226Z
LAST-MODIFIED:20241218T213226Z
UID:10001027-1738078200-1738081800@woodshumanesociety.org
SUMMARY:Book Buddies North County 01-28-25
DESCRIPTION:Calling all young bookworms! Woods is welcoming animal lovers age 7-17 to join us in reading to our furry friends! A non-refundable registration fee of $5 reserves your spot and allows us to continue growing our youth programs and changing the lives of dogs and cats in our community.
URL:https://woodshumanesociety.org/event/book-buddies-north-county-01-28-25/
LOCATION:Woods Humane Society North County\, 2300 Ramona Rd.\, Atascadero\,\, CA\, 93422\, United States
CATEGORIES:Events,Kids Program
ATTACH;FMTTYPE=image/png:https://woodshumanesociety.org/wp-content/uploads/2024/10/Book-Buddies-2024.png
END:VEVENT
END:VCALENDAR