BEGIN:VCALENDAR
VERSION:2.0
PRODID:-//Woods Humane Society - ECPv6.15.20//NONSGML v1.0//EN
CALSCALE:GREGORIAN
METHOD:PUBLISH
X-ORIGINAL-URL:https://woodshumanesociety.org
X-WR-CALDESC:Events for Woods Humane Society
REFRESH-INTERVAL;VALUE=DURATION:PT1H
X-Robots-Tag:noindex
X-PUBLISHED-TTL:PT1H
BEGIN:VTIMEZONE
TZID:America/Chicago
BEGIN:DAYLIGHT
TZOFFSETFROM:-0600
TZOFFSETTO:-0500
TZNAME:CDT
DTSTART:20240310T080000
END:DAYLIGHT
BEGIN:STANDARD
TZOFFSETFROM:-0500
TZOFFSETTO:-0600
TZNAME:CST
DTSTART:20241103T070000
END:STANDARD
BEGIN:DAYLIGHT
TZOFFSETFROM:-0600
TZOFFSETTO:-0500
TZNAME:CDT
DTSTART:20250309T080000
END:DAYLIGHT
BEGIN:STANDARD
TZOFFSETFROM:-0500
TZOFFSETTO:-0600
TZNAME:CST
DTSTART:20251102T070000
END:STANDARD
BEGIN:DAYLIGHT
TZOFFSETFROM:-0600
TZOFFSETTO:-0500
TZNAME:CDT
DTSTART:20260308T080000
END:DAYLIGHT
BEGIN:STANDARD
TZOFFSETFROM:-0500
TZOFFSETTO:-0600
TZNAME:CST
DTSTART:20261101T070000
END:STANDARD
END:VTIMEZONE
BEGIN:VTIMEZONE
TZID:America/Los_Angeles
BEGIN:DAYLIGHT
TZOFFSETFROM:-0800
TZOFFSETTO:-0700
TZNAME:PDT
DTSTART:20240310T100000
END:DAYLIGHT
BEGIN:STANDARD
TZOFFSETFROM:-0700
TZOFFSETTO:-0800
TZNAME:PST
DTSTART:20241103T090000
END:STANDARD
BEGIN:DAYLIGHT
TZOFFSETFROM:-0800
TZOFFSETTO:-0700
TZNAME:PDT
DTSTART:20250309T100000
END:DAYLIGHT
BEGIN:STANDARD
TZOFFSETFROM:-0700
TZOFFSETTO:-0800
TZNAME:PST
DTSTART:20251102T090000
END:STANDARD
BEGIN:DAYLIGHT
TZOFFSETFROM:-0800
TZOFFSETTO:-0700
TZNAME:PDT
DTSTART:20260308T100000
END:DAYLIGHT
BEGIN:STANDARD
TZOFFSETFROM:-0700
TZOFFSETTO:-0800
TZNAME:PST
DTSTART:20261101T090000
END:STANDARD
END:VTIMEZONE
BEGIN:VEVENT
DTSTART;TZID=America/Chicago:20250302T110000
DTEND;TZID=America/Chicago:20250302T123000
DTSTAMP:20260422T114058
CREATED:20250219T233730Z
LAST-MODIFIED:20250219T233730Z
UID:10001054-1740913200-1740918600@woodshumanesociety.org
SUMMARY:Volunteer Orientation SLO Location
DESCRIPTION:Woods volunteers must be 18 years of age or older. If you are interested in opportunities for those under 18 years old\, please visit our Youth Volunteers section of the Get Involved page. \nThis volunteer orientation class is now full.  Please check back on the 1st to register for next month's orientation!
URL:https://woodshumanesociety.org/event/volunteer-orientation-slo-location-33/
LOCATION:Woods Humane Society SLO\, 875 Oklahoma Ave\, San Luis Obispo\, CA\, 93405\, United States
CATEGORIES:Volunteer Orientation
ATTACH;FMTTYPE=image/jpeg:https://woodshumanesociety.org/wp-content/uploads/2020/11/donate-content-1.jpg
END:VEVENT
BEGIN:VEVENT
DTSTART;TZID=America/Los_Angeles:20250308T090000
DTEND;TZID=America/Los_Angeles:20250308T130000
DTSTAMP:20260422T114058
CREATED:20250226T063822Z
LAST-MODIFIED:20250226T063823Z
UID:10001057-1741424400-1741438800@woodshumanesociety.org
SUMMARY:Woods Free Pet Vaccine Clinic
DESCRIPTION:It’s National Pet Vaccination Month! As part of Petco Love’s nationwide “Vaccinated & Loved” initiative\, Woods is hosting three\, appointment-based\, FREE Pet Vaccine Clinics for publicly owned pets. The clinics will be held at our North County campus on Saturday\, March 8 and 22\, from 9 a.m. – 1 p.m. and at our SLO campus on March 22\, from 9 a.m. – 1 p.m. Reserve your spot today!
URL:https://woodshumanesociety.org/event/woods-free-pet-vaccine-clinic/2025-03-08/
LOCATION:Woods Humane Society\, 875 Oklahoma Ave\, San Luis Obispo\, 93405\, United States
CATEGORIES:Events
ATTACH;FMTTYPE=image/png:https://woodshumanesociety.org/wp-content/uploads/2025/01/Woods-Vaccine-Clinic-MARCH-2025-FACEBOOK-INSTAGRAM.png
END:VEVENT
BEGIN:VEVENT
DTSTART;TZID=America/Los_Angeles:20250318T153000
DTEND;TZID=America/Los_Angeles:20250318T163000
DTSTAMP:20260422T114058
CREATED:20250129T200120Z
LAST-MODIFIED:20250129T200120Z
UID:10001040-1742311800-1742315400@woodshumanesociety.org
SUMMARY:Book Buddies North County 03-18-25
DESCRIPTION:Calling all young bookworms! Woods is welcoming animal lovers age 7-17 to join us in reading to our furry friends! A non-refundable registration fee of $5 reserves your spot and allows us to continue growing our youth programs and changing the lives of dogs and cats in our community.
URL:https://woodshumanesociety.org/event/book-buddies-north-county-03-18-25/
LOCATION:Woods Humane Society North County\, 2300 Ramona Rd.\, Atascadero\,\, CA\, 93422\, United States
CATEGORIES:Events,Kids Program
ATTACH;FMTTYPE=image/png:https://woodshumanesociety.org/wp-content/uploads/2024/10/Book-Buddies-2024.png
END:VEVENT
BEGIN:VEVENT
DTSTART;TZID=America/Los_Angeles:20250319T153000
DTEND;TZID=America/Los_Angeles:20250319T163000
DTSTAMP:20260422T114058
CREATED:20250129T211621Z
LAST-MODIFIED:20250129T211621Z
UID:10001042-1742398200-1742401800@woodshumanesociety.org
SUMMARY:Book Buddies SLO 03-19-25
DESCRIPTION:Calling all young bookworms! Woods is welcoming animal lovers age 7-17 to join us in reading to our furry friends! A non-refundable registration fee of $5 reserves your spot and allows us to continue growing our youth programs and changing the lives of dogs and cats in our community.
URL:https://woodshumanesociety.org/event/book-buddies-slo-03-19-25/
LOCATION:Woods Humane Society SLO\, 875 Oklahoma Ave\, San Luis Obispo\, CA\, 93405\, United States
CATEGORIES:Events,Kids Program
ATTACH;FMTTYPE=image/png:https://woodshumanesociety.org/wp-content/uploads/2024/10/Book-Buddies-2024.png
END:VEVENT
BEGIN:VEVENT
DTSTART;TZID=America/Los_Angeles:20250322T090000
DTEND;TZID=America/Los_Angeles:20250322T130000
DTSTAMP:20260422T114058
CREATED:20250226T063822Z
LAST-MODIFIED:20250226T063823Z
UID:10001058-1742634000-1742648400@woodshumanesociety.org
SUMMARY:Woods Free Pet Vaccine Clinic
DESCRIPTION:It’s National Pet Vaccination Month! As part of Petco Love’s nationwide “Vaccinated & Loved” initiative\, Woods is hosting three\, appointment-based\, FREE Pet Vaccine Clinics for publicly owned pets. The clinics will be held at our North County campus on Saturday\, March 8 and 22\, from 9 a.m. – 1 p.m. and at our SLO campus on March 22\, from 9 a.m. – 1 p.m. Reserve your spot today!
URL:https://woodshumanesociety.org/event/woods-free-pet-vaccine-clinic/2025-03-22/
LOCATION:Woods Humane Society\, 875 Oklahoma Ave\, San Luis Obispo\, 93405\, United States
CATEGORIES:Events
ATTACH;FMTTYPE=image/png:https://woodshumanesociety.org/wp-content/uploads/2025/01/Woods-Vaccine-Clinic-MARCH-2025-FACEBOOK-INSTAGRAM.png
END:VEVENT
BEGIN:VEVENT
DTSTART;TZID=America/Los_Angeles:20250325T153000
DTEND;TZID=America/Los_Angeles:20250325T163000
DTSTAMP:20260422T114058
CREATED:20250129T200436Z
LAST-MODIFIED:20250129T211122Z
UID:10001041-1742916600-1742920200@woodshumanesociety.org
SUMMARY:Book Buddies North County 03-25-25
DESCRIPTION:Calling all young bookworms! Woods is welcoming animal lovers age 7-17 to join us in reading to our furry friends! A non-refundable registration fee of $5 reserves your spot and allows us to continue growing our youth programs and changing the lives of dogs and cats in our community.
URL:https://woodshumanesociety.org/event/book-buddies-north-county-03-25-25/
LOCATION:Woods Humane Society North County\, 2300 Ramona Rd.\, Atascadero\,\, CA\, 93422\, United States
CATEGORIES:Events,Kids Program
ATTACH;FMTTYPE=image/png:https://woodshumanesociety.org/wp-content/uploads/2024/10/Book-Buddies-2024.png
END:VEVENT
BEGIN:VEVENT
DTSTART;TZID=America/Los_Angeles:20250328T190000
DTEND;TZID=America/Los_Angeles:20250328T210000
DTSTAMP:20260422T114058
CREATED:20250314T232939Z
LAST-MODIFIED:20250314T232939Z
UID:10001059-1743188400-1743195600@woodshumanesociety.org
SUMMARY:The Aristocats Kids
DESCRIPTION:Atascadero High School will be performing Disney's The Aristocats Kids on March 28th and 29th\, and April 4th and 5th. \nThis heartwarming and jazz-filled musical follows Duchess and her three kittens as they traverse the alleys of France. With the help of alley cat Thomas O'Malley\, Duchess\, the kittens\, and all other animals band together to defeat the greedy butler\, Edgar. \nActors and tech are all students at AHS\, and they are thrilled to be donating 10% of the proceeds to Woods Humane Society! \nTickets are $10 and can be purchased in person or online HERE.
URL:https://woodshumanesociety.org/event/the-aristocats-kids/2025-03-28/
LOCATION:Atascadero High School\, 1 High School Hill Road\, Atascadero\, 93422\, United States
ATTACH;FMTTYPE=image/jpeg:https://woodshumanesociety.org/wp-content/uploads/2025/03/aristocatsposter.jpg
END:VEVENT
BEGIN:VEVENT
DTSTART;TZID=America/Los_Angeles:20250329T140000
DTEND;TZID=America/Los_Angeles:20250329T160000
DTSTAMP:20260422T114058
CREATED:20250314T232939Z
LAST-MODIFIED:20250314T232939Z
UID:10001060-1743256800-1743264000@woodshumanesociety.org
SUMMARY:The Aristocats Kids
DESCRIPTION:Atascadero High School will be performing Disney's The Aristocats Kids on March 28th and 29th\, and April 4th and 5th. \nThis heartwarming and jazz-filled musical follows Duchess and her three kittens as they traverse the alleys of France. With the help of alley cat Thomas O'Malley\, Duchess\, the kittens\, and all other animals band together to defeat the greedy butler\, Edgar. \nActors and tech are all students at AHS\, and they are thrilled to be donating 10% of the proceeds to Woods Humane Society! \nTickets are $10 and can be purchased in person or online HERE.
URL:https://woodshumanesociety.org/event/the-aristocats-kids/2025-03-29/1/
LOCATION:Atascadero High School\, 1 High School Hill Road\, Atascadero\, 93422\, United States
ATTACH;FMTTYPE=image/jpeg:https://woodshumanesociety.org/wp-content/uploads/2025/03/aristocatsposter.jpg
END:VEVENT
BEGIN:VEVENT
DTSTART;TZID=America/Los_Angeles:20250329T190000
DTEND;TZID=America/Los_Angeles:20250329T210000
DTSTAMP:20260422T114058
CREATED:20250314T232939Z
LAST-MODIFIED:20250314T232939Z
UID:10001061-1743274800-1743282000@woodshumanesociety.org
SUMMARY:The Aristocats Kids
DESCRIPTION:Atascadero High School will be performing Disney's The Aristocats Kids on March 28th and 29th\, and April 4th and 5th. \nThis heartwarming and jazz-filled musical follows Duchess and her three kittens as they traverse the alleys of France. With the help of alley cat Thomas O'Malley\, Duchess\, the kittens\, and all other animals band together to defeat the greedy butler\, Edgar. \nActors and tech are all students at AHS\, and they are thrilled to be donating 10% of the proceeds to Woods Humane Society! \nTickets are $10 and can be purchased in person or online HERE.
URL:https://woodshumanesociety.org/event/the-aristocats-kids/2025-03-29/2/
LOCATION:Atascadero High School\, 1 High School Hill Road\, Atascadero\, 93422\, United States
ATTACH;FMTTYPE=image/jpeg:https://woodshumanesociety.org/wp-content/uploads/2025/03/aristocatsposter.jpg
END:VEVENT
END:VCALENDAR