BEGIN:VCALENDAR
VERSION:2.0
PRODID:-//Woods Humane Society - ECPv6.15.20//NONSGML v1.0//EN
CALSCALE:GREGORIAN
METHOD:PUBLISH
X-WR-CALNAME:Woods Humane Society
X-ORIGINAL-URL:https://woodshumanesociety.org
X-WR-CALDESC:Events for Woods Humane Society
REFRESH-INTERVAL;VALUE=DURATION:PT1H
X-Robots-Tag:noindex
X-PUBLISHED-TTL:PT1H
BEGIN:VTIMEZONE
TZID:America/Los_Angeles
BEGIN:DAYLIGHT
TZOFFSETFROM:-0800
TZOFFSETTO:-0700
TZNAME:PDT
DTSTART:20240310T100000
END:DAYLIGHT
BEGIN:STANDARD
TZOFFSETFROM:-0700
TZOFFSETTO:-0800
TZNAME:PST
DTSTART:20241103T090000
END:STANDARD
BEGIN:DAYLIGHT
TZOFFSETFROM:-0800
TZOFFSETTO:-0700
TZNAME:PDT
DTSTART:20250309T100000
END:DAYLIGHT
BEGIN:STANDARD
TZOFFSETFROM:-0700
TZOFFSETTO:-0800
TZNAME:PST
DTSTART:20251102T090000
END:STANDARD
BEGIN:DAYLIGHT
TZOFFSETFROM:-0800
TZOFFSETTO:-0700
TZNAME:PDT
DTSTART:20260308T100000
END:DAYLIGHT
BEGIN:STANDARD
TZOFFSETFROM:-0700
TZOFFSETTO:-0800
TZNAME:PST
DTSTART:20261101T090000
END:STANDARD
END:VTIMEZONE
BEGIN:VTIMEZONE
TZID:America/Chicago
BEGIN:DAYLIGHT
TZOFFSETFROM:-0600
TZOFFSETTO:-0500
TZNAME:CDT
DTSTART:20240310T080000
END:DAYLIGHT
BEGIN:STANDARD
TZOFFSETFROM:-0500
TZOFFSETTO:-0600
TZNAME:CST
DTSTART:20241103T070000
END:STANDARD
BEGIN:DAYLIGHT
TZOFFSETFROM:-0600
TZOFFSETTO:-0500
TZNAME:CDT
DTSTART:20250309T080000
END:DAYLIGHT
BEGIN:STANDARD
TZOFFSETFROM:-0500
TZOFFSETTO:-0600
TZNAME:CST
DTSTART:20251102T070000
END:STANDARD
BEGIN:DAYLIGHT
TZOFFSETFROM:-0600
TZOFFSETTO:-0500
TZNAME:CDT
DTSTART:20260308T080000
END:DAYLIGHT
BEGIN:STANDARD
TZOFFSETFROM:-0500
TZOFFSETTO:-0600
TZNAME:CST
DTSTART:20261101T070000
END:STANDARD
END:VTIMEZONE
BEGIN:VEVENT
DTSTART;TZID=America/Los_Angeles:20250404T190000
DTEND;TZID=America/Los_Angeles:20250404T210000
DTSTAMP:20260422T131311
CREATED:20250314T232939Z
LAST-MODIFIED:20250314T232939Z
UID:10001062-1743793200-1743800400@woodshumanesociety.org
SUMMARY:The Aristocats Kids
DESCRIPTION:Atascadero High School will be performing Disney's The Aristocats Kids on March 28th and 29th\, and April 4th and 5th. \nThis heartwarming and jazz-filled musical follows Duchess and her three kittens as they traverse the alleys of France. With the help of alley cat Thomas O'Malley\, Duchess\, the kittens\, and all other animals band together to defeat the greedy butler\, Edgar. \nActors and tech are all students at AHS\, and they are thrilled to be donating 10% of the proceeds to Woods Humane Society! \nTickets are $10 and can be purchased in person or online HERE.
URL:https://woodshumanesociety.org/event/the-aristocats-kids/2025-04-04/
LOCATION:Atascadero High School\, 1 High School Hill Road\, Atascadero\, 93422\, United States
ATTACH;FMTTYPE=image/jpeg:https://woodshumanesociety.org/wp-content/uploads/2025/03/aristocatsposter.jpg
END:VEVENT
BEGIN:VEVENT
DTSTART;TZID=America/Los_Angeles:20250405T140000
DTEND;TZID=America/Los_Angeles:20250405T160000
DTSTAMP:20260422T131311
CREATED:20250314T232939Z
LAST-MODIFIED:20250314T232939Z
UID:10001063-1743861600-1743868800@woodshumanesociety.org
SUMMARY:The Aristocats Kids
DESCRIPTION:Atascadero High School will be performing Disney's The Aristocats Kids on March 28th and 29th\, and April 4th and 5th. \nThis heartwarming and jazz-filled musical follows Duchess and her three kittens as they traverse the alleys of France. With the help of alley cat Thomas O'Malley\, Duchess\, the kittens\, and all other animals band together to defeat the greedy butler\, Edgar. \nActors and tech are all students at AHS\, and they are thrilled to be donating 10% of the proceeds to Woods Humane Society! \nTickets are $10 and can be purchased in person or online HERE.
URL:https://woodshumanesociety.org/event/the-aristocats-kids/2025-04-05/
LOCATION:Atascadero High School\, 1 High School Hill Road\, Atascadero\, 93422\, United States
ATTACH;FMTTYPE=image/jpeg:https://woodshumanesociety.org/wp-content/uploads/2025/03/aristocatsposter.jpg
END:VEVENT
BEGIN:VEVENT
DTSTART;TZID=America/Los_Angeles:20250406T120000
DTEND;TZID=America/Los_Angeles:20250406T140000
DTSTAMP:20260422T131311
CREATED:20250226T062452Z
LAST-MODIFIED:20250226T062452Z
UID:10001055-1743940800-1743948000@woodshumanesociety.org
SUMMARY:Kitten Shower
DESCRIPTION:RSVP today for our Kitten Shower event on Sunday\, April 6\, 2025. With Baby Season on its way\, we need your help to provide supplies\, temporary homes\, and hands-on care for kittens in need. This fund event will feature foster information\, feeding demos\, kitten cuddles\, and more! To RSVP\, click here. To shop for a baby shower gift from our foster wish list\, click here. 
URL:https://woodshumanesociety.org/event/kitten-shower/
LOCATION:Woods Humane Society\, 875 Oklahoma Ave\, San Luis Obispo\, 93405\, United States
CATEGORIES:Events
ATTACH;FMTTYPE=image/jpeg:https://woodshumanesociety.org/wp-content/uploads/2023/05/Kitten-bottle-feeding-2.jpg
END:VEVENT
BEGIN:VEVENT
DTSTART;TZID=America/Chicago:20250407T150000
DTEND;TZID=America/Chicago:20250407T163000
DTSTAMP:20260422T131311
CREATED:20250314T233512Z
LAST-MODIFIED:20250314T233512Z
UID:10001064-1744038000-1744043400@woodshumanesociety.org
SUMMARY:Volunteer Orientation SLO Location
DESCRIPTION:Woods volunteers must be 18 years of age or older. If you are interested in opportunities for those under 18 years old\, please visit our Youth Volunteers section of the Get Involved page. \nThis volunteer orientation class is now full.  Please check back soon to register for next month's orientation!
URL:https://woodshumanesociety.org/event/volunteer-orientation-slo-location-34/
LOCATION:Woods Humane Society SLO\, 875 Oklahoma Ave\, San Luis Obispo\, CA\, 93405\, United States
CATEGORIES:Volunteer Orientation
ATTACH;FMTTYPE=image/jpeg:https://woodshumanesociety.org/wp-content/uploads/2020/11/donate-content-1.jpg
END:VEVENT
BEGIN:VEVENT
DTSTART;TZID=America/Chicago:20250413T103000
DTEND;TZID=America/Chicago:20250413T113000
DTSTAMP:20260422T131311
CREATED:20250124T210318Z
LAST-MODIFIED:20250323T223318Z
UID:10001039-1744540200-1744543800@woodshumanesociety.org
SUMMARY:Volunteer Orientation North County Location
DESCRIPTION:This is a volunteer orientation for our North County facility. Volunteers interested in working with dogs or in SLO must sign up for an orientation at our SLO location. Please check the calendar for our next event. \nWoods volunteers must be 18 years of age or older. If you are interested in opportunities for those under 18 years old\, please visit our Youth Volunteers section of the Get Involved page.
URL:https://woodshumanesociety.org/event/volunteer-orientation-north-county-location-47/
LOCATION:Woods Humane Society North County\, 2300 Ramona Rd.\, Atascadero\,\, CA\, 93422\, United States
CATEGORIES:Volunteer Orientation
ATTACH;FMTTYPE=image/jpeg:https://woodshumanesociety.org/wp-content/uploads/2020/12/Get-Involved-content-1.jpg
END:VEVENT
BEGIN:VEVENT
DTSTART;TZID=America/Los_Angeles:20250413T130000
DTEND;TZID=America/Los_Angeles:20250413T160000
DTSTAMP:20260422T131311
CREATED:20250214T000358Z
LAST-MODIFIED:20250214T000358Z
UID:10001053-1744549200-1744560000@woodshumanesociety.org
SUMMARY:Rosé the SLO Way
DESCRIPTION:Mark your calendars for the 4th Annual Rosé the SLO Way – the ultimate pink party benefitting Woods Humane Society! Join us at Hotel SLO’s Garden Courtyard to celebrate the latest vintage of Central Coast Rosé. Wear your best pink outfit as you taste the best pink wines on the Central Coast on Sunday\, April 13th from 1-4 p.m. Get your tickets HERE and join in the fun! 
URL:https://woodshumanesociety.org/event/rose-the-slo-way-2/
LOCATION:Hotel San Luis Obispo\, 877 PALM STREET\, SAN LUIS OBISPO\, CA\, 93401\, United States
ATTACH;FMTTYPE=image/png:https://woodshumanesociety.org/wp-content/uploads/2025/02/Rose-2025.png
END:VEVENT
BEGIN:VEVENT
DTSTART;TZID=America/Los_Angeles:20250415T153000
DTEND;TZID=America/Los_Angeles:20250415T163000
DTSTAMP:20260422T131311
CREATED:20250129T214457Z
LAST-MODIFIED:20250129T214457Z
UID:10001047-1744731000-1744734600@woodshumanesociety.org
SUMMARY:Book Buddies North County 04-15-25
DESCRIPTION:Calling all young bookworms! Woods is welcoming animal lovers age 7-17 to join us in reading to our furry friends! A non-refundable registration fee of $5 reserves your spot and allows us to continue growing our youth programs and changing the lives of dogs and cats in our community.
URL:https://woodshumanesociety.org/event/book-buddies-north-county-04-15-25/
LOCATION:Woods Humane Society North County\, 2300 Ramona Rd.\, Atascadero\,\, CA\, 93422\, United States
CATEGORIES:Events,Kids Program
ATTACH;FMTTYPE=image/png:https://woodshumanesociety.org/wp-content/uploads/2024/10/Book-Buddies-2024.png
END:VEVENT
BEGIN:VEVENT
DTSTART;TZID=America/Los_Angeles:20250416T153000
DTEND;TZID=America/Los_Angeles:20250416T163000
DTSTAMP:20260422T131311
CREATED:20250129T220109Z
LAST-MODIFIED:20250129T220109Z
UID:10001049-1744817400-1744821000@woodshumanesociety.org
SUMMARY:Book Buddies SLO 04-16-25
DESCRIPTION:Calling all young bookworms! Woods is welcoming animal lovers age 7-17 to join us in reading to our furry friends! A non-refundable registration fee of $5 reserves your spot and allows us to continue growing our youth programs and changing the lives of dogs and cats in our community.
URL:https://woodshumanesociety.org/event/book-buddies-slo-04-16-25/
LOCATION:Woods Humane Society SLO\, 875 Oklahoma Ave\, San Luis Obispo\, CA\, 93405\, United States
CATEGORIES:Events,Kids Program
ATTACH;FMTTYPE=image/png:https://woodshumanesociety.org/wp-content/uploads/2024/10/Book-Buddies-2024.png
END:VEVENT
BEGIN:VEVENT
DTSTART;TZID=America/Los_Angeles:20250422T153000
DTEND;TZID=America/Los_Angeles:20250422T163000
DTSTAMP:20260422T131311
CREATED:20250129T215219Z
LAST-MODIFIED:20250129T215219Z
UID:10001048-1745335800-1745339400@woodshumanesociety.org
SUMMARY:Book Buddies North County 04-22-25
DESCRIPTION:Calling all young bookworms! Woods is welcoming animal lovers age 7-17 to join us in reading to our furry friends! A non-refundable registration fee of $5 reserves your spot and allows us to continue growing our youth programs and changing the lives of dogs and cats in our community.
URL:https://woodshumanesociety.org/event/book-buddies-north-county-04-22-25/
LOCATION:Woods Humane Society North County\, 2300 Ramona Rd.\, Atascadero\,\, CA\, 93422\, United States
CATEGORIES:Events,Kids Program
ATTACH;FMTTYPE=image/png:https://woodshumanesociety.org/wp-content/uploads/2024/10/Book-Buddies-2024.png
END:VEVENT
BEGIN:VEVENT
DTSTART;TZID=America/Los_Angeles:20250422T160000
DTEND;TZID=America/Los_Angeles:20250422T170000
DTSTAMP:20260422T131311
CREATED:20250417T222909Z
LAST-MODIFIED:20250417T222909Z
UID:10001068-1745337600-1745341200@woodshumanesociety.org
SUMMARY:Kitten Foster Training
DESCRIPTION:Learn how to care for kittens under 8 weeks! Covering everything from feeding to common medical issues and more.
URL:https://woodshumanesociety.org/event/kitten-foster-training/
LOCATION:Woods Humane Society\, 875 Oklahoma Ave\, San Luis Obispo\, 93405\, United States
END:VEVENT
BEGIN:VEVENT
DTSTART;TZID=America/Los_Angeles:20250423T110000
DTEND;TZID=America/Los_Angeles:20250423T233000
DTSTAMP:20260422T131311
CREATED:20250416T214203Z
LAST-MODIFIED:20250416T222612Z
UID:10001065-1745406000-1745451000@woodshumanesociety.org
SUMMARY:Black Sheep Bar & Grill 20 Year Anniversary Celebration
DESCRIPTION:Join Black Sheep Bar & Grill on Wednesday\, April 23rd as they celebrate their 20th anniversary! They're hosting fun events all week long\, and on Wednesday 10% of all sales and 100% of donations will go towards Woods Humane Society! Head to downtown SLO anytime from 11 am - 12 am to join in on the celebration!
URL:https://woodshumanesociety.org/event/black-sheep-bar-grill-20-year-anniversary-celebration/
LOCATION:Black Sheep Bar & Grill\, 1117 Chorro St\, San Luis Obispo\, 93401\, United States
ATTACH;FMTTYPE=image/png:https://woodshumanesociety.org/wp-content/uploads/2025/04/Black-Sheep.png
END:VEVENT
BEGIN:VEVENT
DTSTART;TZID=America/Los_Angeles:20250426T000000
DTEND;TZID=America/Los_Angeles:20250427T235959
DTSTAMP:20260422T131311
CREATED:20250212T191029Z
LAST-MODIFIED:20250212T191030Z
UID:10001051-1745625600-1745798399@woodshumanesociety.org
SUMMARY:WINE 4 PAWS WEEKEND
DESCRIPTION:Come out in April to join forces with more than 75 SLO County wineries as they raise funds for Woods Humane Society! \nYou can help our four-legged friends in need April 26-27\, when participating Wine 4 Paws businesses donate 10% of sales to Woods. \nVisit www.wine4paws.com to see who’s participating. Make your tasting plans and reservations where needed\, or if you can't be here in person\, plan for some online shopping April 26-27 and take advantage of great wine and shipping deals. When you make a purchase that weekend\, you’ll help raise money for Woods! \nHave FUN and help Woods Humane Society continue to care for homeless animals in our community who await loving homes. Enjoy all the Central Coast has to offer while supporting a great cause. \nVisit www.wine4paws.com for more info.
URL:https://woodshumanesociety.org/event/wine-4-paws-weekend/
LOCATION:CA
CATEGORIES:Events
ATTACH;FMTTYPE=image/png:https://woodshumanesociety.org/wp-content/uploads/2025/02/Woods-Wine4Paws-2025-FACEBOOK-INSTAGRAM-1.png
ORGANIZER;CN="Wine 4 Paws":MAILTO:info@wine4paws.com
END:VEVENT
BEGIN:VEVENT
DTSTART;TZID=America/Los_Angeles:20250430T153000
DTEND;TZID=America/Los_Angeles:20250430T163000
DTSTAMP:20260422T131311
CREATED:20250129T220656Z
LAST-MODIFIED:20250129T220656Z
UID:10001050-1746027000-1746030600@woodshumanesociety.org
SUMMARY:Book Buddies SLO 04-30-25
DESCRIPTION:Calling all young bookworms! Woods is welcoming animal lovers age 7-17 to join us in reading to our furry friends! A non-refundable registration fee of $5 reserves your spot and allows us to continue growing our youth programs and changing the lives of dogs and cats in our community.
URL:https://woodshumanesociety.org/event/book-buddies-slo-04-30-25/
LOCATION:Woods Humane Society SLO\, 875 Oklahoma Ave\, San Luis Obispo\, CA\, 93405\, United States
CATEGORIES:Events,Kids Program
ATTACH;FMTTYPE=image/png:https://woodshumanesociety.org/wp-content/uploads/2024/10/Book-Buddies-2024.png
END:VEVENT
END:VCALENDAR