BEGIN:VCALENDAR
VERSION:2.0
PRODID:-//Woods Humane Society - ECPv6.15.20//NONSGML v1.0//EN
CALSCALE:GREGORIAN
METHOD:PUBLISH
X-WR-CALNAME:Woods Humane Society
X-ORIGINAL-URL:https://woodshumanesociety.org
X-WR-CALDESC:Events for Woods Humane Society
REFRESH-INTERVAL;VALUE=DURATION:PT1H
X-Robots-Tag:noindex
X-PUBLISHED-TTL:PT1H
BEGIN:VTIMEZONE
TZID:America/Los_Angeles
BEGIN:DAYLIGHT
TZOFFSETFROM:-0800
TZOFFSETTO:-0700
TZNAME:PDT
DTSTART:20240310T100000
END:DAYLIGHT
BEGIN:STANDARD
TZOFFSETFROM:-0700
TZOFFSETTO:-0800
TZNAME:PST
DTSTART:20241103T090000
END:STANDARD
BEGIN:DAYLIGHT
TZOFFSETFROM:-0800
TZOFFSETTO:-0700
TZNAME:PDT
DTSTART:20250309T100000
END:DAYLIGHT
BEGIN:STANDARD
TZOFFSETFROM:-0700
TZOFFSETTO:-0800
TZNAME:PST
DTSTART:20251102T090000
END:STANDARD
BEGIN:DAYLIGHT
TZOFFSETFROM:-0800
TZOFFSETTO:-0700
TZNAME:PDT
DTSTART:20260308T100000
END:DAYLIGHT
BEGIN:STANDARD
TZOFFSETFROM:-0700
TZOFFSETTO:-0800
TZNAME:PST
DTSTART:20261101T090000
END:STANDARD
END:VTIMEZONE
BEGIN:VTIMEZONE
TZID:America/Chicago
BEGIN:DAYLIGHT
TZOFFSETFROM:-0600
TZOFFSETTO:-0500
TZNAME:CDT
DTSTART:20240310T080000
END:DAYLIGHT
BEGIN:STANDARD
TZOFFSETFROM:-0500
TZOFFSETTO:-0600
TZNAME:CST
DTSTART:20241103T070000
END:STANDARD
BEGIN:DAYLIGHT
TZOFFSETFROM:-0600
TZOFFSETTO:-0500
TZNAME:CDT
DTSTART:20250309T080000
END:DAYLIGHT
BEGIN:STANDARD
TZOFFSETFROM:-0500
TZOFFSETTO:-0600
TZNAME:CST
DTSTART:20251102T070000
END:STANDARD
BEGIN:DAYLIGHT
TZOFFSETFROM:-0600
TZOFFSETTO:-0500
TZNAME:CDT
DTSTART:20260308T080000
END:DAYLIGHT
BEGIN:STANDARD
TZOFFSETFROM:-0500
TZOFFSETTO:-0600
TZNAME:CST
DTSTART:20261101T070000
END:STANDARD
END:VTIMEZONE
BEGIN:VEVENT
DTSTART;TZID=America/Los_Angeles:20250712T140000
DTEND;TZID=America/Los_Angeles:20250712T180000
DTSTAMP:20260423T002810
CREATED:20250522T163549Z
LAST-MODIFIED:20250522T163549Z
UID:10001079-1752328800-1752343200@woodshumanesociety.org
SUMMARY:Pink Drank
DESCRIPTION:Join Woods at Pink Drank\, a poolside tasting event celebrating all drinks pink\, on Saturday July 12\, 2025\, from 2-6 p.m. at the Elks Lodge in San Luis Obispo (#322). This 21+ event emceed by local Broadcaster and Podcast Host\, Adam Montiel\, features beer\, wine and spirits\, a poolside DJ\, and a silent auction. With proceeds benefiting Woods\, this is one event you won’t want to miss. Purchase your tickets here today!
URL:https://woodshumanesociety.org/event/pink-drank/
LOCATION:SLO Elks Lodge #322\, 222 Elks Lane\, San Luis Obispo\, CA\, 93401\, United States
CATEGORIES:Events
ATTACH;FMTTYPE=image/jpeg:https://woodshumanesociety.org/wp-content/uploads/2025/05/Pink-Drank-2025.jpg
END:VEVENT
BEGIN:VEVENT
DTSTART;TZID=America/Chicago:20250713T103000
DTEND;TZID=America/Chicago:20250713T113000
DTSTAMP:20260423T002810
CREATED:20250611T170611Z
LAST-MODIFIED:20250611T170611Z
UID:10001082-1752402600-1752406200@woodshumanesociety.org
SUMMARY:Volunteer Orientation North County Location
DESCRIPTION:This is a volunteer orientation for our North County facility. Volunteers interested in working with dogs or in SLO must sign up for an orientation at our SLO location. Please check the calendar for our next event. \nWoods volunteers must be 18 years of age or older. If you are interested in opportunities for those under 18 years old\, please visit our Youth Volunteers section of the Get Involved page.
URL:https://woodshumanesociety.org/event/volunteer-orientation-north-county-location-49/
LOCATION:Woods Humane Society North County\, 2300 Ramona Rd.\, Atascadero\,\, CA\, 93422\, United States
CATEGORIES:Volunteer Orientation
ATTACH;FMTTYPE=image/jpeg:https://woodshumanesociety.org/wp-content/uploads/2020/12/Get-Involved-content-1.jpg
END:VEVENT
BEGIN:VEVENT
DTSTART;TZID=America/Chicago:20250720T110000
DTEND;TZID=America/Chicago:20250720T123000
DTSTAMP:20260423T002810
CREATED:20250630T190121Z
LAST-MODIFIED:20250630T190121Z
UID:10001088-1753009200-1753014600@woodshumanesociety.org
SUMMARY:Volunteer Orientation SLO Location
DESCRIPTION:Woods volunteers must be 18 years of age or older. If you are interested in opportunities for those under 18 years old\, please visit our Youth Volunteers section of the Get Involved page. \nThis volunteer orientation class is now full.  Please check back soon to register for next month's orientation!
URL:https://woodshumanesociety.org/event/volunteer-orientation-slo-location-36/
LOCATION:Woods Humane Society SLO\, 875 Oklahoma Ave\, San Luis Obispo\, CA\, 93405\, United States
CATEGORIES:Volunteer Orientation
ATTACH;FMTTYPE=image/jpeg:https://woodshumanesociety.org/wp-content/uploads/2020/11/donate-content-1.jpg
END:VEVENT
BEGIN:VEVENT
DTSTART;TZID=America/Los_Angeles:20250723T120000
DTEND;TZID=America/Los_Angeles:20250723T190000
DTSTAMP:20260423T002810
CREATED:20250630T175141Z
LAST-MODIFIED:20250702T170354Z
UID:10001086-1753272000-1753297200@woodshumanesociety.org
SUMMARY:Wood's Electric Doggy Carnival
DESCRIPTION:Beat the heat and join the “rave” at Woods Humane Society’s Electric Doggy Carnival nights\, on Wednesdays July 23rd and 30th at Woods SLO\, as we hold extended adoption hours and $50 adult dog adoptions from 12-7 p.m.
URL:https://woodshumanesociety.org/event/woods-electric-doggy-carnival/2025-07-23/
LOCATION:Woods Humane Society\, 875 Oklahoma Ave\, San Luis Obispo\, 93405\, United States
CATEGORIES:Events
ATTACH;FMTTYPE=image/png:https://woodshumanesociety.org/wp-content/uploads/2025/06/Woods-July-Adoption-Promo-2025-FACEBOOK-INSTAGRAM-2.png
END:VEVENT
BEGIN:VEVENT
DTSTART;TZID=America/Los_Angeles:20250724T110000
DTEND;TZID=America/Los_Angeles:20250724T200000
DTSTAMP:20260423T002810
CREATED:20250624T224945Z
LAST-MODIFIED:20250626T161521Z
UID:10001083-1753354800-1753387200@woodshumanesociety.org
SUMMARY:Todo Bueno Fundraiser-It's All Good To Do Good!
DESCRIPTION:Join Todo Bueno for a delicious way to give back! \nOn July 24th\, 10% of all sales will be donated to Woods Humane Society\, helping provide care and find loving homes for animals in need. \nBring your friends\, family\, and even your paws—enjoy great food\, good company\, and support a great cause. \nDon’t miss this chance to make a difference while enjoying one of SLO’s favorite spots!
URL:https://woodshumanesociety.org/event/its-all-good-to-do-good/
LOCATION:SLO Public Market\, 3845 S HIGUERA ST\, SAN LUIS OBISPO\, 93401
CATEGORIES:Events
ATTACH;FMTTYPE=image/jpeg:https://woodshumanesociety.org/wp-content/uploads/2025/06/thumbnail_image004.jpg
END:VEVENT
BEGIN:VEVENT
DTSTART;TZID=America/Los_Angeles:20250730T110000
DTEND;TZID=America/Los_Angeles:20250730T140000
DTSTAMP:20260423T002810
CREATED:20250630T165053Z
LAST-MODIFIED:20250630T174000Z
UID:10001084-1753873200-1753884000@woodshumanesociety.org
SUMMARY:Woods Humane Society Blood Drive
DESCRIPTION:Did you know there is an urgent need for blood right here in our community?  \nOn July 30th\, we are partnering with our friends at Vitalant to host a blood drive at Woods Humane Society in San Luis Obispo open to staff\, volunteers and the public from 11 a.m. – 2 p.m. As you gear up for summer fun\, help hospitals get ready for summer blood needs. Your blood donation helps ensure patient care won’t be delayed.  All donors will receive pizza and a t shirt and you might as well meet some adoptable animals while you are here! \nPlease make your donation reservation today!
URL:https://woodshumanesociety.org/event/woods-humane-society-blood-drive/
LOCATION:Woods Humane Society\, 875 Oklahoma Ave\, San Luis Obispo\, 93405\, United States
CATEGORIES:Events
ATTACH;FMTTYPE=image/png:https://woodshumanesociety.org/wp-content/uploads/2025/06/Vitalant-Blood-Drive.png
END:VEVENT
BEGIN:VEVENT
DTSTART;TZID=America/Los_Angeles:20250730T120000
DTEND;TZID=America/Los_Angeles:20250730T190000
DTSTAMP:20260423T002810
CREATED:20250630T175141Z
LAST-MODIFIED:20250702T170354Z
UID:10001087-1753876800-1753902000@woodshumanesociety.org
SUMMARY:Wood's Electric Doggy Carnival
DESCRIPTION:Beat the heat and join the “rave” at Woods Humane Society’s Electric Doggy Carnival nights\, on Wednesdays July 23rd and 30th at Woods SLO\, as we hold extended adoption hours and $50 adult dog adoptions from 12-7 p.m.
URL:https://woodshumanesociety.org/event/woods-electric-doggy-carnival/2025-07-30/
LOCATION:Woods Humane Society\, 875 Oklahoma Ave\, San Luis Obispo\, 93405\, United States
CATEGORIES:Events
ATTACH;FMTTYPE=image/png:https://woodshumanesociety.org/wp-content/uploads/2025/06/Woods-July-Adoption-Promo-2025-FACEBOOK-INSTAGRAM-2.png
END:VEVENT
END:VCALENDAR